BEGIN:VCALENDAR
VERSION:2.0
PRODID:-//ChamberMaster//Event Calendar 2.0//EN
METHOD:PUBLISH
X-PUBLISHED-TTL:P3D
REFRESH-INTERVAL:P3D
CALSCALE:GREGORIAN
BEGIN:VEVENT
DTSTART:20200114T220000Z
DTEND:20200114T233000Z
X-MICROSOFT-CDO-ALLDAYEVENT:FALSE
SUMMARY:BMSS Client Tax Update
DESCRIPTION:We would like to invite our Chamber member businesses to attend our annual Tax Update.  Sign in will begin at 4:00 P.M. and program will start about 4:15P.M.(will run about 45 minutes). There will be time for networking and questions afterwards.\n\n\n\nSince the passage of the Tax Cuts and Jobs Act ("TCJA") in December 2017\, we have had one filing season in which to digest and apply the new rules. Please join us for an informative briefing where our tax experts will provide updates and details on how this law continues to impact you and your business.
X-ALT-DESC;FMTTYPE=text/html:<span style="font-size:16px\;"><span style="font-family:arial\;">We would like to invite our Chamber member businesses to attend our annual Tax Update.&nbsp\; Sign in will begin at 4:00 P.M. and program will start about 4:15P.M.(will run about 45 minutes). There will be time for networking and questions afterwards.<br />\n<br />\n<span style="color:#363430\;">Since the passage of the Tax Cuts and Jobs Act (&quot\;TCJA&quot\;) in December 2017\, we have had one filing season in which to digest and apply the new rules. Please join us for an informative briefing where our tax experts will provide updates and details on how this law continues to impact you and your business.</span></span></span>
LOCATION:Gadsden Country Club- Main Ballroom
UID:e.1432.402626
SEQUENCE:3
DTSTAMP:20260420T024912Z
URL:http://business.etowahchamber.org/events/details/bmss-client-tax-update-402626
END:VEVENT

END:VCALENDAR
