BEGIN:VCALENDAR
VERSION:2.0
PRODID:-//ChamberMaster//Event Calendar 2.0//EN
METHOD:PUBLISH
X-PUBLISHED-TTL:P3D
REFRESH-INTERVAL:P3D
CALSCALE:GREGORIAN
BEGIN:VEVENT
DTSTART:20190302T200000Z
DTEND:20190302T220000Z
X-MICROSOFT-CDO-ALLDAYEVENT:FALSE
SUMMARY:Book Signing at Laura Lee's on Broad with Author Lynne S. Scott
DESCRIPTION:Click Here for More Information on Author Lynne S. Scott
X-ALT-DESC;FMTTYPE=text/html:<span style="font-size:16px\;"><span style="font-family:arial\;"><strong><a href="https://www.facebook.com/Lynne-F-Scott-Christian-Author-490588817620163/"><span style="color:#0000FF\;">Click Here for More Information</span></a><span style="color:#0000FF\;"> </span></strong>on Author Lynne S. Scott</span></span>
LOCATION:Laura Lee's on Broad 428 Broad Street Gadsden\, AL 35901
UID:e.1432.400326
SEQUENCE:3
DTSTAMP:20260422T124915Z
URL:http://business.etowahchamber.org/events/details/book-signing-at-laura-lee-s-on-broad-with-author-lynne-s-scott-400326
END:VEVENT

END:VCALENDAR
