BEGIN:VCALENDAR
VERSION:2.0
PRODID:-//ChamberMaster//Event Calendar 2.0//EN
METHOD:PUBLISH
X-PUBLISHED-TTL:P3D
REFRESH-INTERVAL:P3D
CALSCALE:GREGORIAN
BEGIN:VEVENT
DTSTART:20150306T003000Z
DTEND:20150307T020000Z
X-MICROSOFT-CDO-ALLDAYEVENT:FALSE
SUMMARY:Boy Scouts Council American Values Dinner
DESCRIPTION:American Values Dinner\n\nto benefit the Boy Scouts of America\n\nGadsden Convention Hall\n\nThursday\, March 5\, 2015\n\n6:30 p.m.\n\nKeynote: Jimmy Rane\n\nHonoring: Clarence W. Daugette\, Peter and Janet Gregerson\, and Larry Means\n\n\n\nSeats and sponsorships available - email Jessica Millican at Jessica.Millican@scouting.org
X-ALT-DESC;FMTTYPE=text/html:American Values Dinner<br />\nto benefit the Boy Scouts of America<br />\nGadsden Convention Hall<br />\nThursday\, March 5\, 2015<br />\n6:30 p.m.<br />\nKeynote: Jimmy Rane<br />\nHonoring: Clarence W.&nbsp\;Daugette\, Peter and Janet Gregerson\, and Larry Means<br />\n<br />\nSeats and sponsorships available - email Jessica Millican at&nbsp\;Jessica.Millican@scouting.org<br />\n&nbsp\;
LOCATION:Gadsden Convention Hall
UID:e.1432.385655
SEQUENCE:3
DTSTAMP:20260422T081320Z
URL:http://business.etowahchamber.org/events/details/boy-scouts-council-american-values-dinner-03-05-2015-385655
END:VEVENT

END:VCALENDAR
