BEGIN:VCALENDAR
VERSION:2.0
PRODID:-//ChamberMaster//Event Calendar 2.0//EN
METHOD:PUBLISH
X-PUBLISHED-TTL:P3D
REFRESH-INTERVAL:P3D
CALSCALE:GREGORIAN
BEGIN:VEVENT
DTSTART:20140925T123000Z
DTEND:20140925T210000Z
X-MICROSOFT-CDO-ALLDAYEVENT:FALSE
SUMMARY:Boys and Girls Club Golf Tournament
DESCRIPTION:Boys and Girls Club Golf Tournament\n\nThursday\, September 25 at Silver Lakes Golf Course\n\n\n\n4-Person Scramble\n\nRegistration: 7:30 A.M.\n\nTee Off- 8:30 A.M.\n\n\n\nCost is $65 per golfer and includes a golf cart\, 18 holes of golf\, and lunch.\n\n\n\nPrizes will be awarded to winning teams!\n\n\n\nDeadline to register in September 5!\n\nPlease Register by calling Jackie Brehm Edmondson at (256) 549-2650 or Shanna Warden at (256) 549-2571.\n\n\n\nTeam Awards will be given!\n\nLongest Drive and Closest to the Hole Prizes will be awarded!\n\nFabulous Door Prizes!
X-ALT-DESC;FMTTYPE=text/html:<strong><span style="color:#0000CD\;">Boys and Girls Club Golf Tournament</span><br />\n<span style="color:#008000\;">Thursday\, September 25 at Silver Lakes Golf Course</span><br />\n<br />\n4-Person Scramble<br />\nRegistration: 7:30 A.M.<br />\nTee Off- 8:30 A.M.<br />\n<br />\n<span style="color:#FF0000\;">Cost is $65 per golfer and includes a golf cart\, 18 holes of golf\, and lunch.</span><br />\n<br />\nPrizes will be awarded to winning teams!<br />\n<br />\nDeadline to register in September 5!<br />\nPlease Register by calling Jackie Brehm Edmondson at (256) 549-2650 or Shanna Warden at (256) 549-2571.<br />\n<br />\n<span style="color:#FF0000\;">Team Awards will be given!</span><br />\n<span style="color:#0000CD\;">Longest Drive and Closest to the Hole Prizes will be awarded!</span><br />\n<span style="color:#008000\;">Fabulous Door Prizes!</span></strong><br />\n&nbsp\;
LOCATION:Silver Lakes Golf Course
UID:e.1432.384934
SEQUENCE:3
DTSTAMP:20260422T144153Z
URL:http://business.etowahchamber.org/events/details/boys-and-girls-club-golf-tournament-09-25-2014-384934
END:VEVENT

END:VCALENDAR
