BEGIN:VCALENDAR
VERSION:2.0
PRODID:-//ChamberMaster//Event Calendar 2.0//EN
METHOD:PUBLISH
X-PUBLISHED-TTL:P3D
REFRESH-INTERVAL:P3D
CALSCALE:GREGORIAN
BEGIN:VEVENT
DTSTART:20120728T010000Z
DTEND:20120729T030000Z
X-MICROSOFT-CDO-ALLDAYEVENT:FALSE
SUMMARY:Boys & Girls Club 39th Annual Rodeo
DESCRIPTION:Put on your boots - grab your hat and join us at the BGC 39th Annual Rodeo.  The events will include  Bareback Bronc Riding\, Calf Roping\, Barrel Racing\, Steer Wrestling\, Team Roping and Bull Riding\, and we can not forget the Rodeo Clown.   We will have food vendors\, The Perfect Pucker Lemonade\, pony rides and a rock wall for the kids.  The Trading Post will be there for all your western wear accessories. \n\n\n\nAt intermission  for the kids there will be a Gold Rush and a Best Dress Cowboy and Cowgirl contest.\n\n\n\nGates open at 6 PM - Be there early to see some of our BGC Kids perform\, the Rodeo will begin at 8:00 PM
X-ALT-DESC;FMTTYPE=text/html:<br />\nPut on your boots&nbsp\;- grab your hat and join us at the BGC 39th Annual Rodeo.&nbsp\; The events will include &nbsp\;Bareback Bronc Riding\, Calf Roping\, Barrel Racing\, Steer Wrestling\, Team Roping and Bull Riding\, and we can not forget the Rodeo Clown.&nbsp\; &nbsp\;We will have food vendors\, The Perfect Pucker Lemonade\, pony rides and a rock wall for the kids.&nbsp\; The Trading Post will be there for all your western wear accessories.&nbsp\;<br />\n<br />\nAt intermission&nbsp\; for the kids there will be a Gold Rush and a Best Dress Cowboy and Cowgirl contest.<br />\n<br />\nGates open at 6 PM - Be there early to see some of our BGC Kids perform\, the Rodeo will begin at 8:00 PM 
LOCATION:600 Black Creek Road Gadsden\, AL 35904
UID:e.1432.381537
SEQUENCE:3
DTSTAMP:20260422T204911Z
URL:http://business.etowahchamber.org/events/details/boys-girls-club-39th-annual-rodeo-07-27-2012-381537
END:VEVENT

END:VCALENDAR
