BEGIN:VCALENDAR
VERSION:2.0
PRODID:-//ChamberMaster//Event Calendar 2.0//EN
METHOD:PUBLISH
X-PUBLISHED-TTL:P3D
REFRESH-INTERVAL:P3D
CALSCALE:GREGORIAN
BEGIN:VEVENT
DTSTART;VALUE=DATE:20140109
DTEND;VALUE=DATE:20140120
TRANSP:TRANSPARENT
X-MICROSOFT-CDO-ALLDAYEVENT:TRUE
SUMMARY:Buck's Island Boat Show
DESCRIPTION:Buck's is having an in house boat show!  Free admission\, parking and snacks.  We'll have everything you need to buy\, repair\, insure and finance a boat on site!\n\nWe'll have seminars by bass fishing pros including Matt Herren!  Rebates availabe! Remember\, don't buy a boat 'til you get a Buck's quote!
X-ALT-DESC;FMTTYPE=text/html:<strong>Buck&#39\;s is having an in house boat show!&nbsp\; </strong>Free admission\, parking and snacks.&nbsp\; We&#39\;ll have everything you need to buy\, repair\, insure and&nbsp\;finance a boat on site!<br />\nWe&#39\;ll have seminars by bass fishing pros including Matt Herren!&nbsp\; Rebates availabe!<strong> Remember\, don&#39\;t buy a boat &#39\;til you get a Buck&#39\;s quote!</strong>&nbsp\; 
LOCATION:4500 Highway 77\, Southside\, AL 35907
UID:e.1432.384292
SEQUENCE:3
DTSTAMP:20260423T012804Z
URL:http://business.etowahchamber.org/events/details/buck-s-island-boat-show-01-09-2014-384292
END:VEVENT

END:VCALENDAR
