BEGIN:VCALENDAR
VERSION:2.0
PRODID:-//ChamberMaster//Event Calendar 2.0//EN
METHOD:PUBLISH
X-PUBLISHED-TTL:P3D
REFRESH-INTERVAL:P3D
CALSCALE:GREGORIAN
BEGIN:VEVENT
DTSTART:20120706T150000Z
DTEND:20120707T230000Z
X-MICROSOFT-CDO-ALLDAYEVENT:FALSE
SUMMARY:Calla Lilies Boutique 4th of July Sale
DESCRIPTION:Calla Lilies Boutique is having a 4th of July Sale this Friday and Saturday only!!!  25% off Entire Childrens Section.  25% off ALL Shoes and Accessories.  New 30% and 40% Markdowns!  $5 off EVERY $50 spent!!!
X-ALT-DESC;FMTTYPE=text/html:Calla Lilies Boutique is having a 4th of July Sale this Friday and Saturday only!!! &nbsp\;25% off Entire Childrens Section. &nbsp\;25% off ALL Shoes and Accessories. &nbsp\;New 30% and 40% Markdowns! &nbsp\;$5 off EVERY $50 spent!!!
LOCATION:1525 Rainbow Drive\, Gadsden (Across from Zaxby's)
UID:e.1432.381539
SEQUENCE:3
DTSTAMP:20260422T204914Z
URL:http://business.etowahchamber.org/events/details/calla-lilies-boutique-4th-of-july-sale-07-06-2012-381539
END:VEVENT

END:VCALENDAR
