BEGIN:VCALENDAR
VERSION:2.0
PRODID:-//ChamberMaster//Event Calendar 2.0//EN
METHOD:PUBLISH
X-PUBLISHED-TTL:P3D
REFRESH-INTERVAL:P3D
CALSCALE:GREGORIAN
BEGIN:VEVENT
DTSTART:20131020T170000Z
DTEND:20131020T230000Z
X-MICROSOFT-CDO-ALLDAYEVENT:FALSE
SUMMARY:Camping World RV Sales 500 at Talladega Superspeedway
DESCRIPTION:Camping World RV Sales 500 at Talladega Superspeedway\n\nThe chase for the Nascar Sprint Cup Series returns to Talladega Superspeedway!\n\nwww.talladegasuperspeedway.com
X-ALT-DESC;FMTTYPE=text/html:Camping World RV Sales 500 at Talladega Superspeedway<br />\nThe chase for the Nascar Sprint Cup Series returns to Talladega Superspeedway!<br />\nwww.talladegasuperspeedway.com
LOCATION:Talladega Superspeedway
UID:e.1432.384090
SEQUENCE:3
DTSTAMP:20260423T052345Z
URL:http://business.etowahchamber.org/events/details/camping-world-rv-sales-500-at-talladega-superspeedway-10-20-2013-384090
END:VEVENT

END:VCALENDAR
