BEGIN:VCALENDAR
VERSION:2.0
PRODID:-//ChamberMaster//Event Calendar 2.0//EN
METHOD:PUBLISH
X-PUBLISHED-TTL:P3D
REFRESH-INTERVAL:P3D
CALSCALE:GREGORIAN
BEGIN:VEVENT
DTSTART:20130104T000000Z
DTEND:20130104T020000Z
X-MICROSOFT-CDO-ALLDAYEVENT:FALSE
SUMMARY:Cardinal Basketball
DESCRIPTION:Cardinal Basketball vs. NW Georgia Tech: Beck Field House\, Wallace Drive Campus\; Women 6:00 p.m.
X-ALT-DESC;FMTTYPE=text/html:Cardinal Basketball vs. NW Georgia Tech: Beck Field House\, Wallace Drive Campus\; Women 6:00 p.m.
LOCATION:
UID:e.1432.382895
SEQUENCE:3
DTSTAMP:20260423T044122Z
URL:http://business.etowahchamber.org/events/details/cardinal-basketball-01-03-2013-382895
END:VEVENT

END:VCALENDAR
