BEGIN:VCALENDAR
VERSION:2.0
PRODID:-//ChamberMaster//Event Calendar 2.0//EN
METHOD:PUBLISH
X-PUBLISHED-TTL:P3D
REFRESH-INTERVAL:P3D
CALSCALE:GREGORIAN
BEGIN:VEVENT
DTSTART:20130131T233000Z
DTEND:20130201T030000Z
X-MICROSOFT-CDO-ALLDAYEVENT:FALSE
SUMMARY:Cardinal Basketball
DESCRIPTION:Cardinal Basketball vs. Southern Union: Beck Field House\, Wallace Drive Campus\; Women 5:30 p.m.\, Men 7:30 p.m. - HOMECOMING!
X-ALT-DESC;FMTTYPE=text/html:Cardinal Basketball vs. Southern Union: Beck Field House\, Wallace Drive Campus\; Women 5:30 p.m.\, Men 7:30 p.m. - HOMECOMING!
LOCATION:
UID:e.1432.382897
SEQUENCE:3
DTSTAMP:20260423T044027Z
URL:http://business.etowahchamber.org/events/details/cardinal-basketball-01-31-2013-382897
END:VEVENT

END:VCALENDAR
