BEGIN:VCALENDAR
VERSION:2.0
PRODID:-//ChamberMaster//Event Calendar 2.0//EN
METHOD:PUBLISH
X-PUBLISHED-TTL:P3D
REFRESH-INTERVAL:P3D
CALSCALE:GREGORIAN
BEGIN:VEVENT
DTSTART:20130215T013000Z
DTEND:20130215T030000Z
X-MICROSOFT-CDO-ALLDAYEVENT:FALSE
SUMMARY:Cardinal Basketball
DESCRIPTION:Cardinal Basketball vs. Marion Military: Beck Field House\, Wallace Drive Campus\; Men 7:30 p.m.
X-ALT-DESC;FMTTYPE=text/html:Cardinal Basketball vs. Marion Military: Beck Field House\, Wallace Drive Campus\; Men 7:30 p.m.
LOCATION:
UID:e.1432.382900
SEQUENCE:3
DTSTAMP:20260423T070759Z
URL:http://business.etowahchamber.org/events/details/cardinal-basketball-02-14-2013-382900
END:VEVENT

END:VCALENDAR
