BEGIN:VCALENDAR
VERSION:2.0
PRODID:-//ChamberMaster//Event Calendar 2.0//EN
METHOD:PUBLISH
X-PUBLISHED-TTL:P3D
REFRESH-INTERVAL:P3D
CALSCALE:GREGORIAN
BEGIN:VEVENT
DTSTART:20130228T233000Z
DTEND:20130301T030000Z
X-MICROSOFT-CDO-ALLDAYEVENT:FALSE
SUMMARY:Cardinal Basketball
DESCRIPTION:Cardinal Basketball vs. Snead: Beck Field House\, Wallace Drive Campus\; Women 5:30 p.m.\, Men 7:30 p.m.
X-ALT-DESC;FMTTYPE=text/html:Cardinal Basketball vs. Snead: Beck Field House\, Wallace Drive Campus\; Women 5:30 p.m.\, Men 7:30 p.m.
LOCATION:
UID:e.1432.382903
SEQUENCE:3
DTSTAMP:20260423T070852Z
URL:http://business.etowahchamber.org/events/details/cardinal-basketball-02-28-2013-382903
END:VEVENT

END:VCALENDAR
