BEGIN:VCALENDAR
VERSION:2.0
PRODID:-//ChamberMaster//Event Calendar 2.0//EN
METHOD:PUBLISH
X-PUBLISHED-TTL:P3D
REFRESH-INTERVAL:P3D
CALSCALE:GREGORIAN
BEGIN:VEVENT
DTSTART:20121215T200000Z
DTEND:20121215T213000Z
X-MICROSOFT-CDO-ALLDAYEVENT:FALSE
SUMMARY:Cardinal Basketball
DESCRIPTION:Cardinal Basketball vs. Sound Doctrine: Beck Field House\, Wallace Drive Campus\; Men 2:00 p.m.
X-ALT-DESC;FMTTYPE=text/html:Cardinal Basketball vs. Sound Doctrine: Beck Field House\, Wallace Drive Campus\; Men 2:00 p.m.
LOCATION:
UID:e.1432.382893
SEQUENCE:3
DTSTAMP:20260423T032110Z
URL:http://business.etowahchamber.org/events/details/cardinal-basketball-12-15-2012-382893
END:VEVENT

END:VCALENDAR
