BEGIN:VCALENDAR
VERSION:2.0
PRODID:-//ChamberMaster//Event Calendar 2.0//EN
METHOD:PUBLISH
X-PUBLISHED-TTL:P3D
REFRESH-INTERVAL:P3D
CALSCALE:GREGORIAN
BEGIN:VEVENT
DTSTART:20130414T190000Z
DTEND:20130414T200000Z
X-MICROSOFT-CDO-ALLDAYEVENT:FALSE
SUMMARY:Cardinal Softball
DESCRIPTION:Cardinal Softball vs. Itawamba\, 2:00 p.m.\, Gadsden State Softball Complex
X-ALT-DESC;FMTTYPE=text/html:Cardinal Softball vs. Itawamba\, 2:00 p.m.\, Gadsden State Softball Complex
LOCATION:
UID:e.1432.382887
SEQUENCE:3
DTSTAMP:20260423T082149Z
URL:http://business.etowahchamber.org/events/details/cardinal-softball-04-14-2013-382887
END:VEVENT

END:VCALENDAR
