BEGIN:VCALENDAR
VERSION:2.0
PRODID:-//ChamberMaster//Event Calendar 2.0//EN
METHOD:PUBLISH
X-PUBLISHED-TTL:P3D
REFRESH-INTERVAL:P3D
CALSCALE:GREGORIAN
BEGIN:VEVENT
DTSTART:20130427T180000Z
DTEND:20130427T190000Z
X-MICROSOFT-CDO-ALLDAYEVENT:FALSE
SUMMARY:Cardinal Softball
DESCRIPTION:Cardinal Softball vs. Motlow\, 1:00 p.m.\, Gadsden State Softball Complex
X-ALT-DESC;FMTTYPE=text/html:Cardinal Softball vs. Motlow\, 1:00 p.m.\, Gadsden State Softball Complex
LOCATION:
UID:e.1432.382891
SEQUENCE:3
DTSTAMP:20260423T094114Z
URL:http://business.etowahchamber.org/events/details/cardinal-softball-04-27-2013-382891
END:VEVENT

END:VCALENDAR
