BEGIN:VCALENDAR
VERSION:2.0
PRODID:-//ChamberMaster//Event Calendar 2.0//EN
METHOD:PUBLISH
X-PUBLISHED-TTL:P3D
REFRESH-INTERVAL:P3D
CALSCALE:GREGORIAN
BEGIN:VEVENT
DTSTART:20130224T190000Z
DTEND:20130224T200000Z
X-MICROSOFT-CDO-ALLDAYEVENT:FALSE
SUMMARY:Cardinal Tennis
DESCRIPTION:Cardinal Tennis vs. Marion M.I.\, 1:00 p.m.\, Gadsden Tennis Complex
X-ALT-DESC;FMTTYPE=text/html:Cardinal Tennis vs. Marion M.I.\, 1:00 p.m.\, Gadsden Tennis Complex
LOCATION:
UID:e.1432.382880
SEQUENCE:3
DTSTAMP:20260423T060625Z
URL:http://business.etowahchamber.org/events/details/cardinal-tennis-02-24-2013-382880
END:VEVENT

END:VCALENDAR
