BEGIN:VCALENDAR
VERSION:2.0
PRODID:-//ChamberMaster//Event Calendar 2.0//EN
METHOD:PUBLISH
X-PUBLISHED-TTL:P3D
REFRESH-INTERVAL:P3D
CALSCALE:GREGORIAN
BEGIN:VEVENT
DTSTART:20120912T180000Z
DTEND:20120912T180000Z
X-MICROSOFT-CDO-ALLDAYEVENT:FALSE
SUMMARY:Cardinal Tennis vs. Hiawassee College
DESCRIPTION:
X-ALT-DESC;FMTTYPE=text/html:
LOCATION:Gadsden Tennis Complex
UID:e.1432.382145
SEQUENCE:3
DTSTAMP:20260422T231822Z
URL:http://business.etowahchamber.org/events/details/cardinal-tennis-vs-hiawassee-college-09-12-2012-382145
END:VEVENT

END:VCALENDAR
