BEGIN:VCALENDAR
VERSION:2.0
PRODID:-//ChamberMaster//Event Calendar 2.0//EN
METHOD:PUBLISH
X-PUBLISHED-TTL:P3D
REFRESH-INTERVAL:P3D
CALSCALE:GREGORIAN
BEGIN:VEVENT
DTSTART:20130921T003000Z
DTEND:20130921T020000Z
X-MICROSOFT-CDO-ALLDAYEVENT:FALSE
SUMMARY:Cardinal Volleyball
DESCRIPTION:Cardinal Volleyball vs. Jeff Davis
X-ALT-DESC;FMTTYPE=text/html:Cardinal Volleyball vs. Jeff Davis
LOCATION:Beck Field House Gym\, Wallace Drive Campus in Gadsden
UID:e.1432.384100
SEQUENCE:3
DTSTAMP:20260423T075223Z
URL:http://business.etowahchamber.org/events/details/cardinal-volleyball-09-20-2013-384100
END:VEVENT

END:VCALENDAR
