BEGIN:VCALENDAR
VERSION:2.0
PRODID:-//ChamberMaster//Event Calendar 2.0//EN
METHOD:PUBLISH
X-PUBLISHED-TTL:P3D
REFRESH-INTERVAL:P3D
CALSCALE:GREGORIAN
BEGIN:VEVENT
DTSTART:20131008T230000Z
DTEND:20131009T010000Z
X-MICROSOFT-CDO-ALLDAYEVENT:FALSE
SUMMARY:Cardinal Volleyball
DESCRIPTION:Cardinal Volleyball vs. Lawson
X-ALT-DESC;FMTTYPE=text/html:Cardinal Volleyball vs. Lawson
LOCATION:Beck Field House Gym\, Wallace Drive Campus in Gadsden
UID:e.1432.384103
SEQUENCE:3
DTSTAMP:20260423T052116Z
URL:http://business.etowahchamber.org/events/details/cardinal-volleyball-10-08-2013-384103
END:VEVENT

END:VCALENDAR
