BEGIN:VCALENDAR
VERSION:2.0
PRODID:-//ChamberMaster//Event Calendar 2.0//EN
METHOD:PUBLISH
X-PUBLISHED-TTL:P3D
REFRESH-INTERVAL:P3D
CALSCALE:GREGORIAN
BEGIN:VEVENT
DTSTART:20131023T230000Z
DTEND:20131024T010000Z
X-MICROSOFT-CDO-ALLDAYEVENT:FALSE
SUMMARY:Cardinal Volleyball
DESCRIPTION:Cardinal Volleyball vs. Wallace-Hanceville
X-ALT-DESC;FMTTYPE=text/html:Cardinal Volleyball vs. Wallace-Hanceville
LOCATION:Beck Field House Gym\, Wallace Drive Campus
UID:e.1432.384105
SEQUENCE:3
DTSTAMP:20260423T052207Z
URL:http://business.etowahchamber.org/events/details/cardinal-volleyball-10-23-2013-384105
END:VEVENT

END:VCALENDAR
