BEGIN:VCALENDAR
VERSION:2.0
PRODID:-//ChamberMaster//Event Calendar 2.0//EN
METHOD:PUBLISH
X-PUBLISHED-TTL:P3D
REFRESH-INTERVAL:P3D
CALSCALE:GREGORIAN
BEGIN:VEVENT
DTSTART:20131025T000000Z
DTEND:20131025T020000Z
X-MICROSOFT-CDO-ALLDAYEVENT:FALSE
SUMMARY:Cardinal Volleyball
DESCRIPTION:Cardinal Volleyball vs. Selma
X-ALT-DESC;FMTTYPE=text/html:Cardinal Volleyball vs. Selma
LOCATION:Beck Field House\, Wallace Drive Campus
UID:e.1432.384106
SEQUENCE:3
DTSTAMP:20260423T052116Z
URL:http://business.etowahchamber.org/events/details/cardinal-volleyball-10-24-2013-384106
END:VEVENT

END:VCALENDAR
