BEGIN:VCALENDAR
VERSION:2.0
PRODID:-//ChamberMaster//Event Calendar 2.0//EN
METHOD:PUBLISH
X-PUBLISHED-TTL:P3D
REFRESH-INTERVAL:P3D
CALSCALE:GREGORIAN
BEGIN:VEVENT
DTSTART:20120913T230000Z
DTEND:20120913T230000Z
X-MICROSOFT-CDO-ALLDAYEVENT:FALSE
SUMMARY:Cardinal Volleyball vs.Lawson State (Season Opener)
DESCRIPTION:
X-ALT-DESC;FMTTYPE=text/html:
LOCATION:Beck Field House\, Wallace Drive Campus
UID:e.1432.382147
SEQUENCE:3
DTSTAMP:20260422T231900Z
URL:http://business.etowahchamber.org/events/details/cardinal-volleyball-vs-lawson-state-season-opener-09-13-2012-382147
END:VEVENT

END:VCALENDAR
