BEGIN:VCALENDAR
VERSION:2.0
PRODID:-//ChamberMaster//Event Calendar 2.0//EN
METHOD:PUBLISH
X-PUBLISHED-TTL:P3D
REFRESH-INTERVAL:P3D
CALSCALE:GREGORIAN
BEGIN:VEVENT
DTSTART:20120919T230000Z
DTEND:20120919T230000Z
X-MICROSOFT-CDO-ALLDAYEVENT:FALSE
SUMMARY:Cardinal Volleyball vs. Wallace State
DESCRIPTION:
X-ALT-DESC;FMTTYPE=text/html:
LOCATION:Beck Field House\, Wallace Drive Campus
UID:e.1432.382148
SEQUENCE:3
DTSTAMP:20260422T231426Z
URL:http://business.etowahchamber.org/events/details/cardinal-volleyball-vs-wallace-state-09-19-2012-382148
END:VEVENT

END:VCALENDAR
