BEGIN:VCALENDAR
VERSION:2.0
PRODID:-//ChamberMaster//Event Calendar 2.0//EN
METHOD:PUBLISH
X-PUBLISHED-TTL:P3D
REFRESH-INTERVAL:P3D
CALSCALE:GREGORIAN
BEGIN:VEVENT
DTSTART:20141013T130000Z
DTEND:20141013T210000Z
X-MICROSOFT-CDO-ALLDAYEVENT:FALSE
SUMMARY:Celebrate Manufacturing 2014- Annual Free Training Saluting Our Local Manufacturers
DESCRIPTION:Motor Controls ( Day 1 of 3)\n\nInstructor: Lankford\, Holder\n\nRoom: 156
X-ALT-DESC;FMTTYPE=text/html:Motor Controls ( Day 1 of 3)<br />\nInstructor: Lankford\, Holder<br />\nRoom: 156
LOCATION:The Bevill Center at Gadsden State Community College
UID:e.1432.384964
SEQUENCE:3
DTSTAMP:20260422T133144Z
URL:http://business.etowahchamber.org/events/details/celebrate-manufacturing-2014-annual-free-training-saluting-our-local-manufacturers-10-13-2014-384964
END:VEVENT

END:VCALENDAR
