BEGIN:VCALENDAR
VERSION:2.0
PRODID:-//ChamberMaster//Event Calendar 2.0//EN
METHOD:PUBLISH
X-PUBLISHED-TTL:P3D
REFRESH-INTERVAL:P3D
CALSCALE:GREGORIAN
BEGIN:VEVENT
DTSTART:20141014T130000Z
DTEND:20141014T210000Z
X-MICROSOFT-CDO-ALLDAYEVENT:FALSE
SUMMARY:Celebrate Manufacturing 2014- Annual Free Training Saluting Our Local Manufacturers
DESCRIPTION:Basic Hydraulics ( Day 2 of 4)\n\nInstructor: Wilhite\, Bowen\n\nRoom: 130
X-ALT-DESC;FMTTYPE=text/html:Basic Hydraulics ( Day 2 of 4)<br />\nInstructor: Wilhite\, Bowen<br />\nRoom: 130
LOCATION:The Bevill Center at Gadsden State Community College
UID:e.1432.384970
SEQUENCE:3
DTSTAMP:20260422T133143Z
URL:http://business.etowahchamber.org/events/details/celebrate-manufacturing-2014-annual-free-training-saluting-our-local-manufacturers-10-14-2014-384970
END:VEVENT

END:VCALENDAR
