BEGIN:VCALENDAR
VERSION:2.0
PRODID:-//ChamberMaster//Event Calendar 2.0//EN
METHOD:PUBLISH
X-PUBLISHED-TTL:P3D
REFRESH-INTERVAL:P3D
CALSCALE:GREGORIAN
BEGIN:VEVENT
DTSTART:20141015T130000Z
DTEND:20141015T210000Z
X-MICROSOFT-CDO-ALLDAYEVENT:FALSE
SUMMARY:Celebrate Manufacturing 2014- Annual Free Training Saluting Our Local Manufacturers
DESCRIPTION:OSHA 10-Hr. for General Industry (Day 2 of 2)\n\nInstructor: Bales\n\nRoom: 111
X-ALT-DESC;FMTTYPE=text/html:OSHA 10-Hr. for General Industry (Day 2 of 2)<br />\nInstructor: Bales<br />\nRoom: 111
LOCATION:The Bevill Center at Gadsden State Community College
UID:e.1432.384981
SEQUENCE:3
DTSTAMP:20260422T133150Z
URL:http://business.etowahchamber.org/events/details/celebrate-manufacturing-2014-annual-free-training-saluting-our-local-manufacturers-10-15-2014-384981
END:VEVENT

END:VCALENDAR
