BEGIN:VCALENDAR
VERSION:2.0
PRODID:-//ChamberMaster//Event Calendar 2.0//EN
METHOD:PUBLISH
X-PUBLISHED-TTL:P3D
REFRESH-INTERVAL:P3D
CALSCALE:GREGORIAN
BEGIN:VEVENT
DTSTART:20141015T180000Z
DTEND:20141015T220000Z
X-MICROSOFT-CDO-ALLDAYEVENT:FALSE
SUMMARY:Celebrate Manufacturing 2014- Annual Free Training Saluting Our Local Manufacturers
DESCRIPTION:Advanced EXCEL for Industry\n\nInstructor: Graham\n\nRoom: 110
X-ALT-DESC;FMTTYPE=text/html:Advanced EXCEL for Industry<br />\nInstructor: Graham<br />\nRoom: 110
LOCATION:The Bevill Center at Gadsden State Community College
UID:e.1432.384990
SEQUENCE:3
DTSTAMP:20260422T132518Z
URL:http://business.etowahchamber.org/events/details/celebrate-manufacturing-2014-annual-free-training-saluting-our-local-manufacturers-10-15-2014-384990
END:VEVENT

END:VCALENDAR
