BEGIN:VCALENDAR
VERSION:2.0
PRODID:-//ChamberMaster//Event Calendar 2.0//EN
METHOD:PUBLISH
X-PUBLISHED-TTL:P3D
REFRESH-INTERVAL:P3D
CALSCALE:GREGORIAN
BEGIN:VEVENT
DTSTART:20141016T130000Z
DTEND:20141016T170000Z
X-MICROSOFT-CDO-ALLDAYEVENT:FALSE
SUMMARY:Celebrate Manufacturing 2014- Annual Free Training Saluting Our Local Manufacturers
DESCRIPTION:Powered Industrial Trucks\n\nInstructor: Holder\n\nRoom: 130
X-ALT-DESC;FMTTYPE=text/html:Powered Industrial Trucks<br />\nInstructor: Holder<br />\nRoom: 130
LOCATION:The Bevill Center at Gadsden State Community College
UID:e.1432.384985
SEQUENCE:3
DTSTAMP:20260422T133024Z
URL:http://business.etowahchamber.org/events/details/celebrate-manufacturing-2014-annual-free-training-saluting-our-local-manufacturers-10-16-2014-384985
END:VEVENT

END:VCALENDAR
