BEGIN:VCALENDAR
VERSION:2.0
PRODID:-//ChamberMaster//Event Calendar 2.0//EN
METHOD:PUBLISH
X-PUBLISHED-TTL:P3D
REFRESH-INTERVAL:P3D
CALSCALE:GREGORIAN
BEGIN:VEVENT
DTSTART:20141017T130000Z
DTEND:20141017T150000Z
X-MICROSOFT-CDO-ALLDAYEVENT:FALSE
SUMMARY:Celebrate Manufacturing 2014- Annual Free Training Saluting Our Local Manufacturers
DESCRIPTION:NFPA 70E 2015 Update\n\nInstructor: Bowen\, Lankford\n\nRoom: 141
X-ALT-DESC;FMTTYPE=text/html:NFPA 70E&nbsp\;2015 Update<br />\nInstructor: Bowen\,&nbsp\;Lankford<br />\nRoom: 141
LOCATION:The Bevill Center at Gadsden State Community College
UID:e.1432.384968
SEQUENCE:3
DTSTAMP:20260422T133100Z
URL:http://business.etowahchamber.org/events/details/celebrate-manufacturing-2014-annual-free-training-saluting-our-local-manufacturers-10-17-2014-384968
END:VEVENT

END:VCALENDAR
