BEGIN:VCALENDAR
VERSION:2.0
PRODID:-//ChamberMaster//Event Calendar 2.0//EN
METHOD:PUBLISH
X-PUBLISHED-TTL:P3D
REFRESH-INTERVAL:P3D
CALSCALE:GREGORIAN
BEGIN:VEVENT
DTSTART:20120802T170000Z
DTEND:20120802T180000Z
X-MICROSOFT-CDO-ALLDAYEVENT:FALSE
SUMMARY:Chamber Ambassador Meeting
DESCRIPTION:
X-ALT-DESC;FMTTYPE=text/html:
LOCATION:The Chamber Board Room
UID:e.1432.381150
SEQUENCE:3
DTSTAMP:20260422T220621Z
URL:http://business.etowahchamber.org/events/details/chamber-ambassador-meeting-08-02-2012-381150
END:VEVENT

END:VCALENDAR
