BEGIN:VCALENDAR
VERSION:2.0
PRODID:-//ChamberMaster//Event Calendar 2.0//EN
METHOD:PUBLISH
X-PUBLISHED-TTL:P3D
REFRESH-INTERVAL:P3D
CALSCALE:GREGORIAN
BEGIN:VEVENT
DTSTART:20190814T130000Z
DTEND:20190814T140000Z
X-MICROSOFT-CDO-ALLDAYEVENT:FALSE
SUMMARY:Chamber Community Pop-Up in Hokes Bluff
DESCRIPTION:The Chamber will be visiting Hokes Bluff for our second Community Pop-Up in August. Quarterly pop-ups will take our staff throughout the county to visit with and get feedback from businesses in the area.\n\n\n\nJoin us at Hokes Bluff Public Library to meet with staff members\, ask questions\, find out more about The Chamber\, benefits of membership\, or provide us with feedback on how we can best serve you!
X-ALT-DESC;FMTTYPE=text/html:<span style="font-size:16px\;"><span style="font-family:arial\;">The Chamber will be visiting Hokes Bluff for our second Community Pop-Up in August. Quarterly pop-ups will take our staff throughout the county to visit with and get feedback from businesses in the area.<br />\n<br />\nJoin us at Hokes Bluff Public Library to meet with staff members\, ask questions\, find out more about The Chamber\, benefits of membership\, or provide us with feedback on how we can best serve you!</span></span>
LOCATION:Hokes Bluff Public Library
UID:e.1432.401336
SEQUENCE:3
DTSTAMP:20260422T095411Z
URL:http://business.etowahchamber.org/events/details/chamber-community-pop-up-in-hokes-bluff-401336
END:VEVENT

END:VCALENDAR
