BEGIN:VCALENDAR
VERSION:2.0
PRODID:-//ChamberMaster//Event Calendar 2.0//EN
METHOD:PUBLISH
X-PUBLISHED-TTL:P3D
REFRESH-INTERVAL:P3D
CALSCALE:GREGORIAN
BEGIN:VEVENT
DTSTART:20181019T130000Z
DTEND:20181019T140000Z
X-MICROSOFT-CDO-ALLDAYEVENT:FALSE
SUMMARY:Chamber Group Travel - Information Meeting
DESCRIPTION:Recently The Chamber sent a survey to the membership to determine interest in group travel\, and the response was pheneomenal!\n\n\n\nOverwhelmingly\, respondants were interested in traveling to Jamaica or Punta Cana\, primarily in June\, and for a stretch of 5 days\, for an all-inclusive experience that would cost around $3500 per couple. (Individual rates will also be available.)\n\n\n\nPlease join us for this informational meeting to learn more about this opportunity and to determine if you might be eligile for an early-bird discount! \n\n\n\nAnyone interested can attend from 8-9 am on October 19\, 2018 in the Chamber Board Room\, located at One Commerce Square\, Gadsden\, AL 35901. \n\n\n\nBecky Word of Word Destinations will provide information on the trip\, and The Chamber will provide some information on the benefits of group travel!\n\n\n\nPlease RSVP to reserve your seat!
X-ALT-DESC;FMTTYPE=text/html:<p>Recently The Chamber sent a survey to the membership to determine interest in group travel\, and the response was pheneomenal!<br />\n<br />\nOverwhelmingly\, respondants were interested in traveling to Jamaica or Punta Cana\, primarily in June\, and for a stretch of 5 days\, for an all-inclusive experience that would cost around $3500 per couple. (Individual rates will also be available.)<br />\n<br />\nPlease join us for this informational meeting to learn more about this opportunity and to determine if you might be eligile for an early-bird discount!&nbsp\;<br />\n<br />\nAnyone interested can attend from 8-9 am on October 19\, 2018 in the Chamber Board Room\, located at One Commerce Square\, Gadsden\, AL 35901.&nbsp\;<br />\n<br />\nBecky Word of Word Destinations will provide information on the trip\, and The Chamber will provide some information on the benefits of group travel!<br />\n<br />\nPlease RSVP to reserve your seat!&nbsp\;<br />\n<br />\n&nbsp\;</p>\n
LOCATION:Chamber Board Room One Commerce Square Gadsden\, AL 35901
UID:e.1432.398115
SEQUENCE:3
DTSTAMP:20260421T161031Z
URL:http://business.etowahchamber.org/events/details/chamber-group-travel-information-meeting-398115
END:VEVENT

END:VCALENDAR
