BEGIN:VCALENDAR
VERSION:2.0
PRODID:-//ChamberMaster//Event Calendar 2.0//EN
METHOD:PUBLISH
X-PUBLISHED-TTL:P3D
REFRESH-INTERVAL:P3D
CALSCALE:GREGORIAN
BEGIN:VEVENT
DTSTART:20120504T170000Z
DTEND:20120504T220000Z
X-MICROSOFT-CDO-ALLDAYEVENT:FALSE
SUMMARY:Charity Golf Tournament to benefit Darden Rehab
DESCRIPTION:Fundraiser Golf Tournament\n\n		Friday May 4\, 2012\n\n		$60 per golfer - $240 per team\n\n		Registration and Lunch at 12:00\n\n		Shot Gun State at 1:00 PM\n\n		Best Ball Format\n	\n		 \n	\n		Contact\n	\n		sbishop@dardenrehab.com\n	Click here to edit...
X-ALT-DESC;FMTTYPE=text/html:<div style="color: gray">\n	<p>\n		Fundraiser Golf Tournament<br />\n		Friday May 4\, 2012<br />\n		$60 per golfer - $240 per team<br />\n		Registration and Lunch at 12:00<br />\n		Shot Gun State at 1:00 PM<br />\n		Best Ball Format</p>\n	<p>\n		&nbsp\;</p>\n	<p>\n		Contact</p>\n	<p>\n		sbishop@dardenrehab.com</p>\n	Click here to edit...</div>\n
LOCATION:
UID:e.1432.381463
SEQUENCE:3
DTSTAMP:20260422T180331Z
URL:http://business.etowahchamber.org/events/details/charity-golf-tournament-to-benefit-darden-rehab-05-04-2012-381463
END:VEVENT

END:VCALENDAR
