BEGIN:VCALENDAR
VERSION:2.0
PRODID:-//ChamberMaster//Event Calendar 2.0//EN
METHOD:PUBLISH
X-PUBLISHED-TTL:P3D
REFRESH-INTERVAL:P3D
CALSCALE:GREGORIAN
BEGIN:VEVENT
DTSTART:20140712T173000Z
DTEND:20140713T230000Z
X-MICROSOFT-CDO-ALLDAYEVENT:FALSE
SUMMARY:Charity Pig Roast
DESCRIPTION:The Charity Pig Roast 2014 is coming July 12th & 13th celebrating our 30th anniversary so join us!  It's all about the kids!\n\nSaturday & Sunday hamburgers\, hotdogs\, & bbq plates for $8 each.  Pre-order boston butts for $30.
X-ALT-DESC;FMTTYPE=text/html:The Charity Pig Roast 2014 is coming July 12th &amp\; 13th celebrating our 30th anniversary so join us! &nbsp\;It&#39\;s all about the kids!<br />\nSaturday &amp\; Sunday hamburgers\, hotdogs\, &amp\; bbq plates for $8 each. &nbsp\;Pre-order boston butts for $30.
LOCATION:Noccalula Falls Campground Gadsden\, AL
UID:e.1432.384263
SEQUENCE:3
DTSTAMP:20260422T171331Z
URL:http://business.etowahchamber.org/events/details/charity-pig-roast-07-12-2014-384263
END:VEVENT

END:VCALENDAR
