BEGIN:VCALENDAR
VERSION:2.0
PRODID:-//ChamberMaster//Event Calendar 2.0//EN
METHOD:PUBLISH
X-PUBLISHED-TTL:P3D
REFRESH-INTERVAL:P3D
CALSCALE:GREGORIAN
BEGIN:VEVENT
DTSTART:20130713T170000Z
DTEND:20130714T040000Z
X-MICROSOFT-CDO-ALLDAYEVENT:FALSE
SUMMARY:Charity Pig Roast
DESCRIPTION:The two-day event at Noccalula Falls Park includes a motorcycle run\, a beauty pageant and a mini-golf tournament.\n\n\n	\n		\n			And\, there will be lots of good food.\n		\n			This is the second year the pig roast\, which is Saturday and Sunday\, is taking place at Noccalula Falls at the campground stage and pavilions. Gail Hill\, who founded the event with her husband\, Doug\, said 16 bands will be playing during the two days. Music begins at noon Saturday and 1 p.m. Sunday.\n		\n			Admission is free. The event generates money through other means\, and the proceeds provide Christmas for children who otherwise would do without.\n		\n			"Everybody that's involved with the pig roast says it's all about the children\," Hill said.\n		\n			"We want a child to go back to school after Christmas and be able to tell someone what they got for Christmas\, and that's our main goal\, to make a child happy at Christmas time\," she said.\n		\n			More than 800 children had a happier Christmas last year\, with more than $23\,000 spent on gifts.\n		\n			Hill said they hope to raise $15\,000 to $20\,000 and will have another fundraiser in October.\n		\n			On Saturday\, hamburgers\, hot dogs and barbecue sandwiches will be available from 1 p.m. to 8 p.m. Plates are $6.\n		\n			Pulled pork plates or barbecue chicken plates will be available from noon to 5 p.m. Sunday\, with sides that include baked beans\, cole slaw and corn on cob\, plus bread and drinks. The cost is $8.\n		\n			To-go boxes will be available on both days.\n		\n			Boston butts will be available for $25 beginning Saturday at noon and also can be picked up beginning at 9 a.m. Sunday.\n		\n			Hill said they prepared about 260 butts last year and sold out.\n		\n			To reserve meat\, call Sabrina Teat\, 256-613-3123.\n		\n			Other food vendors will be there\, and T-shirts from the event will be sold.\n		\n			Those who attend should bring blankets or lawn chairs. Coolers are allowed.\n		\n			Anyone wishing to volunteer at the event should call Hill at 256-413-3684.\n	\n\n\n	\n		\n			\n				The Pig Roast Bike Run is Saturday on Broad Street. Registration begins at 8 a.m.\, with the ride beginning at 10 a.m. The two-and-a-half-hour ride is sponsored by the Red Knights of Alabama Chapter 10.\n			\n				About 100 bikers participated last year. Hill said several other chapters are participating this year\, and she expects 200 to 300 riders to participate.\n			\n				There is no charge\, but donations will be accepted.\n			\n				For more information about the ride\, call 256-393-2140 or 256-504-3670. The ride ends at Noccalula Falls.\n			\n				At noon Saturday\, there will be a Girls Beauty Contest at Elliott Community Center for ages infant to 12 years old. Registration is $25.\n			\n				Saturday there will be a mini-golf tournament at the course at Noccalula Falls. Registration begins at 8:30 a.m.\, with tee-off at 9 a.m. The cost is $15 per team of three.\n			\n				For more information\, call Chris McLeod\, 256-312-7822.\n			\n				Bands performing\n			\n				Saturday\n			\n				Noon   30 Gallon Steel\n			\n				1 p.m.   The Anderson Baggett Band\n			\n				2 p.m.   Mystic Window\n			\n				3 p.m.   Bradley Whitehead\n			\n				4 p.m.   Matt Slowlick\n			\n				5 p.m.   Gold Dust Band\n			\n				6 p.m.   Skydogs\n			\n				7 p.m.   Matt Harvey Band\n			\n				8 p.m.   Benny Leverton Band\n			\n				9 p.m.   Low Class Reunion\n			\n				10 p.m.   Unbridled\n			\n				Sunday\n			\n				1 p.m.   Strange Heirs\n			\n				2 p.m.   Stereo Revival\n			\n				3 p.m.   Foggy Hollow Band\n			\n				4 p.m.   Ticket To Heaven\n			\n				5 p.m.   Shotgun Suiter
X-ALT-DESC;FMTTYPE=text/html:<div class="article_text article_paragraph0" style="margin: 0px\; padding: 0px\; border: 0px\; font-family: Arimo\, Arial\, sans-serif\; font-size: medium\; line-height: 1.4\; vertical-align: baseline\; color: rgb(0\, 0\, 0)\;">\n	<p style="margin: 0px 0px 1em\; padding: 0px\; border: 0px\; font-size: inherit\; font-style: inherit\; font-variant: inherit\; line-height: 1.4\; vertical-align: baseline\;">\n		<span style="font-size: inherit\; font-style: inherit\; font-variant: inherit\; line-height: 1.4\;">The two-day event at </span>Noccalula<span style="font-size: inherit\; font-style: inherit\; font-variant: inherit\; line-height: 1.4\;"> Falls Park includes a motorcycle run\, a beauty pageant and a mini-golf tournament.</span></p>\n</div>\n<div class="pagholder" style="margin: 0px\; padding: 0px\; border: 0px\; font-family: Arimo\, Arial\, sans-serif\; font-size: medium\; line-height: 16px\; vertical-align: baseline\; color: rgb(0\, 0\, 0)\;">\n	<div class="article_text article_paragraph1 google_elide p402_premium" style="margin: 0px\; padding: 0px\; border: 0px\; font-size: 1em\; font-style: inherit\; font-variant: inherit\; line-height: 1.4\; vertical-align: baseline\;">\n		<p class="pagpag1" style="margin: 0px 0px 1em\; padding: 0px\; border: 0px\; font-size: inherit\; font-style: inherit\; font-variant: inherit\; line-height: 1.4\; vertical-align: baseline\;">\n			And\, there will be lots of good food.</p>\n		<p class="pagpag1" style="margin: 0px 0px 1em\; padding: 0px\; border: 0px\; font-size: inherit\; font-style: inherit\; font-variant: inherit\; line-height: 1.4\; vertical-align: baseline\;">\n			This is the second year the pig roast\, which is Saturday and Sunday\, is taking place at Noccalula Falls at the campground stage and pavilions. Gail Hill\, who founded the event with her husband\, Doug\, said 16 bands will be playing during the two days. Music begins at noon Saturday and 1 p.m. Sunday.</p>\n		<p class="pagpag1" style="margin: 0px 0px 1em\; padding: 0px\; border: 0px\; font-size: inherit\; font-style: inherit\; font-variant: inherit\; line-height: 1.4\; vertical-align: baseline\;">\n			Admission is free. The event generates money through other means\, and the proceeds provide Christmas for children who otherwise would do without.</p>\n		<p class="pagpag1" style="margin: 0px 0px 1em\; padding: 0px\; border: 0px\; font-size: inherit\; font-style: inherit\; font-variant: inherit\; line-height: 1.4\; vertical-align: baseline\;">\n			&ldquo\;Everybody that&rsquo\;s involved with the pig roast says it&rsquo\;s all about the children\,&rdquo\; Hill said.</p>\n		<p class="pagpag1" style="margin: 0px 0px 1em\; padding: 0px\; border: 0px\; font-size: inherit\; font-style: inherit\; font-variant: inherit\; line-height: 1.4\; vertical-align: baseline\;">\n			&ldquo\;We want a child to go back to school after Christmas and be able to tell someone what they got for Christmas\, and that&rsquo\;s our main goal\, to make a child happy at Christmas time\,&rdquo\; she said.</p>\n		<p class="pagpag1" style="margin: 0px 0px 1em\; padding: 0px\; border: 0px\; font-size: inherit\; font-style: inherit\; font-variant: inherit\; line-height: 1.4\; vertical-align: baseline\;">\n			More than 800 children had a happier Christmas last year\, with more than $23\,000 spent on gifts.</p>\n		<p class="pagpag1" style="margin: 0px 0px 1em\; padding: 0px\; border: 0px\; font-size: inherit\; font-style: inherit\; font-variant: inherit\; line-height: 1.4\; vertical-align: baseline\;">\n			Hill said they hope to raise $15\,000 to $20\,000 and will have another fundraiser in October.</p>\n		<p class="pagpag1" style="margin: 0px 0px 1em\; padding: 0px\; border: 0px\; font-size: inherit\; font-style: inherit\; font-variant: inherit\; line-height: 1.4\; vertical-align: baseline\;">\n			On Saturday\, hamburgers\, hot dogs and barbecue sandwiches will be available from 1 p.m. to 8 p.m. Plates are $6.</p>\n		<p class="pagpag1" style="margin: 0px 0px 1em\; padding: 0px\; border: 0px\; font-size: inherit\; font-style: inherit\; font-variant: inherit\; line-height: 1.4\; vertical-align: baseline\;">\n			Pulled pork plates or barbecue chicken plates will be available from noon to 5 p.m. Sunday\, with sides that include baked beans\, cole slaw and corn on cob\, plus bread and drinks. The cost is $8.</p>\n		<p class="pagpag1" style="margin: 0px 0px 1em\; padding: 0px\; border: 0px\; font-size: inherit\; font-style: inherit\; font-variant: inherit\; line-height: 1.4\; vertical-align: baseline\;">\n			To-go boxes will be available on both days.</p>\n		<p class="pagpag1" style="margin: 0px 0px 1em\; padding: 0px\; border: 0px\; font-size: inherit\; font-style: inherit\; font-variant: inherit\; line-height: 1.4\; vertical-align: baseline\;">\n			Boston butts will be available for $25 beginning Saturday at noon and also can be picked up beginning at 9 a.m. Sunday.</p>\n		<p class="pagpag1" style="margin: 0px 0px 1em\; padding: 0px\; border: 0px\; font-size: inherit\; font-style: inherit\; font-variant: inherit\; line-height: 1.4\; vertical-align: baseline\;">\n			Hill said they prepared about 260 butts last year and sold out.</p>\n		<p class="pagpag1" style="margin: 0px 0px 1em\; padding: 0px\; border: 0px\; font-size: inherit\; font-style: inherit\; font-variant: inherit\; line-height: 1.4\; vertical-align: baseline\;">\n			To reserve meat\, call Sabrina Teat\, 256-613-3123.</p>\n		<p class="pagpag1" style="margin: 0px 0px 1em\; padding: 0px\; border: 0px\; font-size: inherit\; font-style: inherit\; font-variant: inherit\; line-height: 1.4\; vertical-align: baseline\;">\n			Other food vendors will be there\, and T-shirts from the event will be sold.</p>\n		<p class="pagpag1" style="margin: 0px 0px 1em\; padding: 0px\; border: 0px\; font-size: inherit\; font-style: inherit\; font-variant: inherit\; line-height: 1.4\; vertical-align: baseline\;">\n			Those who attend should bring blankets or lawn chairs. Coolers are allowed.</p>\n		<p class="pagpag1" style="margin: 0px 0px 1em\; padding: 0px\; border: 0px\; font-size: inherit\; font-style: inherit\; font-variant: inherit\; line-height: 1.4\; vertical-align: baseline\;">\n			Anyone wishing to volunteer at the event should call Hill at 256-413-3684.</p>\n	</div>\n</div>\n<div id="article_text" style="margin: 0px\; padding: 15px 0px 0px\; border: 0px\; font-family: Arimo\, Arial\, sans-serif\; font-size: medium\; line-height: 16px\; vertical-align: baseline\; color: rgb(0\, 0\, 0)\;">\n	<div class="pagholder" style="margin: 0px\; padding: 0px\; border: 0px\; font-size: inherit\; font-style: inherit\; font-variant: inherit\; line-height: inherit\; vertical-align: baseline\;">\n		<div class="article_text article_paragraph1 google_elide p402_premium" style="margin: 0px\; padding: 0px\; border: 0px\; font-size: 1em\; font-style: inherit\; font-variant: inherit\; line-height: 1.4\; vertical-align: baseline\;">\n			<p class="pagpag2" style="margin: 0px 0px 1em\; padding: 0px\; border: 0px\; font-size: inherit\; font-style: inherit\; font-variant: inherit\; line-height: 1.4\; vertical-align: baseline\;">\n				The Pig Roast Bike Run is Saturday on Broad Street. Registration begins at 8 a.m.\, with the ride beginning at 10 a.m. The two-and-a-half-hour ride is sponsored by the Red Knights of Alabama Chapter 10.</p>\n			<p class="pagpag2" style="margin: 0px 0px 1em\; padding: 0px\; border: 0px\; font-size: inherit\; font-style: inherit\; font-variant: inherit\; line-height: 1.4\; vertical-align: baseline\;">\n				About 100 bikers participated last year. Hill said several other chapters are participating this year\, and she expects 200 to 300 riders to participate.</p>\n			<p class="pagpag2" style="margin: 0px 0px 1em\; padding: 0px\; border: 0px\; font-size: inherit\; font-style: inherit\; font-variant: inherit\; line-height: 1.4\; vertical-align: baseline\;">\n				There is no charge\, but donations will be accepted.</p>\n			<p class="pagpag2" style="margin: 0px 0px 1em\; padding: 0px\; border: 0px\; font-size: inherit\; font-style: inherit\; font-variant: inherit\; line-height: 1.4\; vertical-align: baseline\;">\n				For more information about the ride\, call 256-393-2140 or 256-504-3670. The ride ends at Noccalula Falls.</p>\n			<p class="pagpag2" style="margin: 0px 0px 1em\; padding: 0px\; border: 0px\; font-size: inherit\; font-style: inherit\; font-variant: inherit\; line-height: 1.4\; vertical-align: baseline\;">\n				At noon Saturday\, there will be a Girls Beauty Contest at Elliott Community Center for ages infant to 12 years old. Registration is $25.</p>\n			<p class="pagpag2" style="margin: 0px 0px 1em\; padding: 0px\; border: 0px\; font-size: inherit\; font-style: inherit\; font-variant: inherit\; line-height: 1.4\; vertical-align: baseline\;">\n				Saturday there will be a mini-golf tournament at the course at Noccalula Falls. Registration begins at 8:30 a.m.\, with tee-off at 9 a.m. The cost is $15 per team of three.</p>\n			<p class="pagpag2" style="margin: 0px 0px 1em\; padding: 0px\; border: 0px\; font-size: inherit\; font-style: inherit\; font-variant: inherit\; line-height: 1.4\; vertical-align: baseline\;">\n				For more information\, call Chris McLeod\, 256-312-7822.</p>\n			<p class="pagpag2" style="margin: 0px 0px 1em\; padding: 0px\; border: 0px\; font-size: inherit\; font-style: inherit\; font-variant: inherit\; line-height: 1.4\; vertical-align: baseline\;">\n				Bands performing</p>\n			<p class="pagpag2" style="margin: 0px 0px 1em\; padding: 0px\; border: 0px\; font-size: inherit\; font-style: inherit\; font-variant: inherit\; line-height: 1.4\; vertical-align: baseline\;">\n				Saturday</p>\n			<p class="pagpag2" style="margin: 0px 0px 1em\; padding: 0px\; border: 0px\; font-size: inherit\; font-style: inherit\; font-variant: inherit\; line-height: 1.4\; vertical-align: baseline\;">\n				Noon &mdash\; 30 Gallon Steel</p>\n			<p class="pagpag2" style="margin: 0px 0px 1em\; padding: 0px\; border: 0px\; font-size: inherit\; font-style: inherit\; font-variant: inherit\; line-height: 1.4\; vertical-align: baseline\;">\n				1 p.m. &mdash\; The Anderson Baggett Band</p>\n			<p class="pagpag2" style="margin: 0px 0px 1em\; padding: 0px\; border: 0px\; font-size: inherit\; font-style: inherit\; font-variant: inherit\; line-height: 1.4\; vertical-align: baseline\;">\n				2 p.m. &mdash\; Mystic Window</p>\n			<p class="pagpag2" style="margin: 0px 0px 1em\; padding: 0px\; border: 0px\; font-size: inherit\; font-style: inherit\; font-variant: inherit\; line-height: 1.4\; vertical-align: baseline\;">\n				3 p.m. &mdash\; Bradley Whitehead</p>\n			<p class="pagpag2" style="margin: 0px 0px 1em\; padding: 0px\; border: 0px\; font-size: inherit\; font-style: inherit\; font-variant: inherit\; line-height: 1.4\; vertical-align: baseline\;">\n				4 p.m. &mdash\; Matt Slowlick</p>\n			<p class="pagpag2" style="margin: 0px 0px 1em\; padding: 0px\; border: 0px\; font-size: inherit\; font-style: inherit\; font-variant: inherit\; line-height: 1.4\; vertical-align: baseline\;">\n				5 p.m. &mdash\; Gold Dust Band</p>\n			<p class="pagpag2" style="margin: 0px 0px 1em\; padding: 0px\; border: 0px\; font-size: inherit\; font-style: inherit\; font-variant: inherit\; line-height: 1.4\; vertical-align: baseline\;">\n				6 p.m. &mdash\; Skydogs</p>\n			<p class="pagpag2" style="margin: 0px 0px 1em\; padding: 0px\; border: 0px\; font-size: inherit\; font-style: inherit\; font-variant: inherit\; line-height: 1.4\; vertical-align: baseline\;">\n				7 p.m. &mdash\; Matt Harvey Band</p>\n			<p class="pagpag2" style="margin: 0px 0px 1em\; padding: 0px\; border: 0px\; font-size: inherit\; font-style: inherit\; font-variant: inherit\; line-height: 1.4\; vertical-align: baseline\;">\n				8 p.m. &mdash\; Benny Leverton Band</p>\n			<p class="pagpag2" style="margin: 0px 0px 1em\; padding: 0px\; border: 0px\; font-size: inherit\; font-style: inherit\; font-variant: inherit\; line-height: 1.4\; vertical-align: baseline\;">\n				9 p.m. &mdash\; Low Class Reunion</p>\n			<p class="pagpag2" style="margin: 0px 0px 1em\; padding: 0px\; border: 0px\; font-size: inherit\; font-style: inherit\; font-variant: inherit\; line-height: 1.4\; vertical-align: baseline\;">\n				10 p.m. &mdash\; Unbridled</p>\n			<p class="pagpag2" style="margin: 0px 0px 1em\; padding: 0px\; border: 0px\; font-size: inherit\; font-style: inherit\; font-variant: inherit\; line-height: 1.4\; vertical-align: baseline\;">\n				Sunday</p>\n			<p class="pagpag2" style="margin: 0px 0px 1em\; padding: 0px\; border: 0px\; font-size: inherit\; font-style: inherit\; font-variant: inherit\; line-height: 1.4\; vertical-align: baseline\;">\n				1 p.m. &mdash\; Strange Heirs</p>\n			<p class="pagpag2" style="margin: 0px 0px 1em\; padding: 0px\; border: 0px\; font-size: inherit\; font-style: inherit\; font-variant: inherit\; line-height: 1.4\; vertical-align: baseline\;">\n				2 p.m. &mdash\; Stereo Revival</p>\n			<p class="pagpag2" style="margin: 0px 0px 1em\; padding: 0px\; border: 0px\; font-size: inherit\; font-style: inherit\; font-variant: inherit\; line-height: 1.4\; vertical-align: baseline\;">\n				3 p.m. &mdash\; Foggy Hollow Band</p>\n			<p class="pagpag2" style="margin: 0px 0px 1em\; padding: 0px\; border: 0px\; font-size: inherit\; font-style: inherit\; font-variant: inherit\; line-height: 1.4\; vertical-align: baseline\;">\n				4 p.m. &mdash\; Ticket To Heaven</p>\n			<p class="pagpag2" style="margin: 0px 0px 1em\; padding: 0px\; border: 0px\; font-size: inherit\; font-style: inherit\; font-variant: inherit\; line-height: 1.4\; vertical-align: baseline\;">\n				5 p.m. &mdash\; Shotgun Suiter</p>\n		</div>\n	</div>\n</div>\n<div class="pagnavholder" style="margin: 20px 0px 0px\; padding: 0px 0px 0px 10px\; border: 0px\; font-family: Arimo\, Arial\, sans-serif\; font-size: 13px\; line-height: inherit\; vertical-align: baseline\; clear: both\; height: 30px\; background-color: rgb(0\, 0\, 0)\; color: rgb(0\, 0\, 0)\;">\n	<ul class="pagnav" style="margin: 0px\; padding-right: 0px\; padding-left: 0px\; border: 0px\; font-size: inherit\; font-style: inherit\; font-variant: inherit\; line-height: inherit\; vertical-align: baseline\; list-style: none\;">\n		<li class="pagnavprev" style="margin: 10px 0px 0px\; padding: 0px\; border: 0px\; font-size: inherit\; font-style: inherit\; font-variant: inherit\; line-height: inherit\; vertical-align: baseline\; clear: none\; float: left\; background-image: none\;">\n			&nbsp\;</li>\n	</ul>\n</div>\n<br />\n
LOCATION:Noccalulla Falls Campground
UID:e.1432.383348
SEQUENCE:3
DTSTAMP:20260423T102814Z
URL:http://business.etowahchamber.org/events/details/charity-pig-roast-07-13-2013-383348
END:VEVENT

END:VCALENDAR
