BEGIN:VCALENDAR
VERSION:2.0
PRODID:-//ChamberMaster//Event Calendar 2.0//EN
METHOD:PUBLISH
X-PUBLISHED-TTL:P3D
REFRESH-INTERVAL:P3D
CALSCALE:GREGORIAN
BEGIN:VEVENT
DTSTART:20121109T000000Z
DTEND:20121109T000000Z
X-MICROSOFT-CDO-ALLDAYEVENT:FALSE
SUMMARY:Charity Showcase
DESCRIPTION:
X-ALT-DESC;FMTTYPE=text/html:
LOCATION:Wallace Hall Fine Arts Center
UID:e.1432.381550
SEQUENCE:3
DTSTAMP:20260423T020127Z
URL:http://business.etowahchamber.org/events/details/charity-showcase-11-08-2012-381550
END:VEVENT

END:VCALENDAR
