BEGIN:VCALENDAR
VERSION:2.0
PRODID:-//ChamberMaster//Event Calendar 2.0//EN
METHOD:PUBLISH
X-PUBLISHED-TTL:P3D
REFRESH-INTERVAL:P3D
CALSCALE:GREGORIAN
BEGIN:VEVENT
DTSTART:20141027T230000Z
DTEND:20141028T010000Z
X-MICROSOFT-CDO-ALLDAYEVENT:FALSE
SUMMARY:Chick-Fil-A Fall Festival
DESCRIPTION:We would like to invite everyone in the community to our Fall Festival on October 27\, 2014 from 6-8 PM. Enjoy an evening of amazing autumn fun with a live bluegrass-gospel group from Blount County\, AL\, inflatables\, pumpkin painting\, crafts with Lowe's Build and Grow Kid's Clinic\, cow train rides with Sand Mountain Corn Maze and Pumpkin Patch\, the Ag in Action Trailer\, and much more! \n\n \n\nThe first 100 kids to attend will receive a FREE pumpkin! Kids will pick out a pumpkin from our very own pumpkin patch and paint it to their liking. Don't forget to wear your family friendly costume for a chance to win FREE Chick-fil-A!
X-ALT-DESC;FMTTYPE=text/html:<p><span style="color:#1a1a1a\;"><span style="font-family:arial\;">We would like to invite everyone in the community to our Fall Festival on October 27\, 2014 from 6-8 PM.&nbsp\;Enjoy an evening of amazing autumn fun with a live bluegrass-gospel group from Blount County\, AL\, inflatables\, pumpkin painting\, crafts with Lowe&#39\;s Build and Grow Kid&#39\;s Clinic\, cow train rides with Sand Mountain Corn Maze and Pumpkin Patch\, the Ag in Action Trailer\, and much more! </span></span><br />\n&nbsp\;<br />\n<span style="font-family:arial\;">The first 100 kids to attend will receive a FREE pumpkin! Kids will pick out a pumpkin from our very own pumpkin patch and paint it to their liking. Don&#39\;t forget to wear your family friendly costume for a chance to win FREE Chick-fil-A!</span></p>\n
LOCATION:Chick-fil-A of Gadsden at 4th Street 1008 S 4th Street Gadsden\, AL 35901
UID:e.1432.385050
SEQUENCE:3
DTSTAMP:20260422T132216Z
URL:http://business.etowahchamber.org/events/details/chick-fil-a-fall-festival-10-27-2014-385050
END:VEVENT

END:VCALENDAR
