BEGIN:VCALENDAR
VERSION:2.0
PRODID:-//ChamberMaster//Event Calendar 2.0//EN
METHOD:PUBLISH
X-PUBLISHED-TTL:P3D
REFRESH-INTERVAL:P3D
CALSCALE:GREGORIAN
BEGIN:VEVENT
DTSTART:20130406T150000Z
DTEND:20130407T010000Z
X-MICROSOFT-CDO-ALLDAYEVENT:FALSE
SUMMARY:Chocolate Festival 2013
DESCRIPTION:Alabama Chocolate Festival in Rainbow City...SAVE THE DATE\, for Chocolate Taste off Applications go to www.rbcalabama.com
X-ALT-DESC;FMTTYPE=text/html:<em><strong><span style="font-size: 10pt\;"><span style="font-family: trebuchet ms\,sans-serif\;">Alabama Chocolate Festival in Rainbow City...SAVE THE DATE\, for Chocolate Taste off Applications go to <a href="http://r20.rs6.net/tn.jsp?e=001U50cTjMwmKoomRw0XmUfo2B55hlgFmhP8214EQHclUwaKuK8ezRv8441f3bTQqxPdRLS8a6SY_oxeZNxN7pBL1vjf7mtB16Ss1x7N8hZ05CGoh7KSx5N1w==" shape="rect" target="_blank">www.rbcalabama.com</a></span></span></strong></em><br />\n
LOCATION:Rainbow Plaza\; Next door to Dollar General
UID:e.1432.383129
SEQUENCE:3
DTSTAMP:20260423T083401Z
URL:http://business.etowahchamber.org/events/details/chocolate-festival-2013-04-06-2013-383129
END:VEVENT

END:VCALENDAR
