BEGIN:VCALENDAR
VERSION:2.0
PRODID:-//ChamberMaster//Event Calendar 2.0//EN
METHOD:PUBLISH
X-PUBLISHED-TTL:P3D
REFRESH-INTERVAL:P3D
CALSCALE:GREGORIAN
BEGIN:VEVENT
DTSTART:20121201T150000Z
DTEND:20121201T230000Z
X-MICROSOFT-CDO-ALLDAYEVENT:FALSE
SUMMARY:Christmas Open House at FLD Garden Shop
DESCRIPTION:Join us in celebrating the Christmas Season on Saturday\, Dec. 1! We'll have refreshments and discounts throughout the shop. We'll also have wreath making classes at 10am and 2pm. Classes are $25 per person\, which includes all materials to make a star-shaped Christmas wreath. And bring the kids\, because we'll have children's classes at the same time for $5 per child\, where they'll learn to make a pine cone elf! Class sizes are limited so go to www.fldgardens.com/register to register for your spot.\n\n				\n\n				We'll be stocked with beautiful poinsettias\, live cut Christmas trees\, and live garland. There will be lots of great deals on gift items\, so we can help you pick out the perfect gift for the garden enthusiast on your Christmas list. You don't want to miss it!
X-ALT-DESC;FMTTYPE=text/html:<table cellpadding="0" cellspacing="0" class="uiGrid mvm" style="word-wrap: normal\; border: 0px\; border-collapse: collapse\; border-spacing: 0px\; margin-top: 10px\; margin-bottom: 10px\; color: rgb(51\, 51\, 51)\; font-family: 'lucida grande'\, tahoma\, verdana\, arial\, sans-serif\; font-size: 11px\; line-height: 14px\;">\n	<tbody>\n		<tr>\n			<td class="vTop" style="vertical-align: top\;">\n				&nbsp\;</td>\n			<td class="vTop" style="vertical-align: top\;">\n				<span itemprop="description"><span class="fsl" style="font-size: 13px\;">Join us in celebrating the Christmas Season on Saturday\, Dec. 1! We&#39\;ll have refreshments and discounts throughout the shop. We&#39\;ll also have wreath making classes at 10am and 2pm. Classes are $25 per person\, which includes all materials to make a star-shaped Christmas wreath. And bring the kids\, because we&#39\;ll have children&#39\;s classes at the same time for $5 per child\, where they&#39\;ll learn to make a pine cone elf! Class sizes are limited so go to&nbsp\;<a avglsprocessed="1" href="http://www.fldgardens.com/register" rel="nofollow nofollow" style="cursor: pointer\; color: rgb(59\, 89\, 152)\; text-decoration: initial\;" target="_blank">www.fldgardens.com/<wbr>register</wbr></a>&nbsp\;to register for your spot.<br />\n				<br />\n				We&#39\;ll be stocked with beautiful poinsettias\, live cut Christmas trees\, and live garland. There will be lots of great deals on gift items\, so we can help you pick out the perfect gift for the garden enthusiast on your Christmas list. You don&#39\;t want to miss it!</span></span></td>\n		</tr>\n	</tbody>\n</table>\n
LOCATION:FLD Garden Shop: 2290 Cedar Bend Rd N\, Southside\, AL 35907. On HWY 77 S\, turn right at the BB&T Bank. We're less than a mile down the road on the right. You'll see the Christmas lights!
UID:e.1432.382869
SEQUENCE:3
DTSTAMP:20260423T033743Z
URL:http://business.etowahchamber.org/events/details/christmas-open-house-at-fld-garden-shop-12-01-2012-382869
END:VEVENT

END:VCALENDAR
