BEGIN:VCALENDAR
VERSION:2.0
PRODID:-//ChamberMaster//Event Calendar 2.0//EN
METHOD:PUBLISH
X-PUBLISHED-TTL:P3D
REFRESH-INTERVAL:P3D
CALSCALE:GREGORIAN
BEGIN:VEVENT
DTSTART:20191214T200000Z
DTEND:20191214T220000Z
X-MICROSOFT-CDO-ALLDAYEVENT:FALSE
SUMMARY:Christmas with Children Presented by The Woman's Club of Gadsden
DESCRIPTION:Children's crafts\, secret Santa shopping\, music\, fun\, and.....Mrs. Claus! Come make a lasting holiday memory with Mrs. Claus for children ages 3-9 years old with activities including:\n\n	Holiday keepsake craft\n	Photo with Mrs. Claus\n	Secret Santa shop(gift for mom)\n	Christmas carols\n\nBook for child's favorite holiday experience(pre-registration only)!
X-ALT-DESC;FMTTYPE=text/html:<span style="font-size:16px\;"><span style="font-family:arial\;"><span style="color: rgb(29\, 33\, 41)\; white-space: pre-wrap\;">Children&rsquo\;s crafts\, secret Santa shopping\, music\, fun\, and.....Mrs. Claus! Come make a lasting holiday memory with Mrs. Claus for children ages 3-9 years old with activities including:</span></span></span>\n<ul>\n	<li><span style="font-size:16px\;"><span style="font-family:arial\;"><span style="color: rgb(29\, 33\, 41)\; white-space: pre-wrap\;">Holiday keepsake craft</span></span></span></li>\n	<li><span style="font-size:16px\;"><span style="font-family:arial\;"><span style="color: rgb(29\, 33\, 41)\; white-space: pre-wrap\;">Photo with Mrs. Claus</span></span></span></li>\n	<li><span style="font-size:16px\;"><span style="font-family:arial\;"><span style="color: rgb(29\, 33\, 41)\; white-space: pre-wrap\;">Secret Santa shop(gift for mom)</span></span></span></li>\n	<li><span style="font-size:16px\;"><span style="font-family:arial\;"><span style="color: rgb(29\, 33\, 41)\; white-space: pre-wrap\;">Christmas carols</span></span></span></li>\n</ul>\n<span style="font-size:16px\;"><span style="font-family:arial\;"><span style="color: rgb(29\, 33\, 41)\; white-space: pre-wrap\;">Book for child&#39\;s favorite holiday experience(pre-registration only)!</span></span></span>
LOCATION:Woman's Club of Gadsden
UID:e.1432.401786
SEQUENCE:3
DTSTAMP:20260420T054858Z
URL:http://business.etowahchamber.org/events/details/christmas-with-children-presented-by-the-woman-s-club-of-gadsden-401786
END:VEVENT

END:VCALENDAR
