BEGIN:VCALENDAR
VERSION:2.0
PRODID:-//ChamberMaster//Event Calendar 2.0//EN
METHOD:PUBLISH
X-PUBLISHED-TTL:P3D
REFRESH-INTERVAL:P3D
CALSCALE:GREGORIAN
BEGIN:VEVENT
DTSTART;VALUE=DATE:20130831
DTEND;VALUE=DATE:20130901
TRANSP:TRANSPARENT
X-MICROSOFT-CDO-ALLDAYEVENT:TRUE
SUMMARY:Churchill's Antique Mall Oldies Show
DESCRIPTION:Churchill's Antique Mall will have an Oldies Show inside the mall. Live-Singing-Oldies. Contest will include hoola hoop contest\, dancing\, and more. Prizes for all. Ask how to win $500
X-ALT-DESC;FMTTYPE=text/html:Churchill&#39\;s Antique Mall will have an Oldies Show inside the mall. Live-Singing-Oldies. Contest will include hoola hoop contest\, dancing\, and more. Prizes for all. Ask how to win $500&nbsp\;
LOCATION:612 Borad Street
UID:e.1432.383940
SEQUENCE:3
DTSTAMP:20260423T075552Z
URL:http://business.etowahchamber.org/events/details/churchill-s-antique-mall-oldies-show-08-31-2013-383940
END:VEVENT

END:VCALENDAR
