BEGIN:VCALENDAR
VERSION:2.0
PRODID:-//ChamberMaster//Event Calendar 2.0//EN
METHOD:PUBLISH
X-PUBLISHED-TTL:P3D
REFRESH-INTERVAL:P3D
CALSCALE:GREGORIAN
BEGIN:VEVENT
DTSTART:20141201T230000Z
DTEND:20141202T010000Z
X-MICROSOFT-CDO-ALLDAYEVENT:FALSE
SUMMARY:City of Attalla Christmas Tree Lighting
DESCRIPTION:Monday December 1\, 2014 starting at 5:00\n\nFREE Photos with Santa\n\nFREE Horse and Carriage rides\n\nFREE Train rides\n\nFREE Photo Booth\n\nFREE Hot Cider and Hot Chocolate\n\nReading of "Twas the Night Before Christmas"\n\nShops open late and many more fun and exciting things to do.\n\nCome join all the Christmas activities!!
X-ALT-DESC;FMTTYPE=text/html:<u><strong><span style="color:black\;"><span style="font-family:helvetica\,sans-serif\;">Monday December 1\, 2014 starting at 5:00</span></span></strong></u><br />\n<span style="color:black\;"><span style="font-family:helvetica\,sans-serif\;"><strong>FREE</strong> Photos with Santa</span></span><br />\n<span style="color:black\;"><span style="font-family:helvetica\,sans-serif\;"><strong>FREE</strong> Horse and Carriage rides</span></span><br />\n<span style="color:black\;"><span style="font-family:helvetica\,sans-serif\;"><strong>FREE</strong> Train rides</span></span><br />\n<span style="color:black\;"><span style="font-family:helvetica\,sans-serif\;"><strong>FREE</strong> Photo Booth</span></span><br />\n<span style="color:black\;"><span style="font-family:helvetica\,sans-serif\;"><strong>FREE</strong> Hot Cider and Hot Chocolate</span></span><br />\n<span style="color:black\;"><span style="font-family:helvetica\,sans-serif\;">Reading of &quot\;Twas the Night Before Christmas&quot\;</span></span><br />\n<span style="color:black\;"><span style="font-family:helvetica\,sans-serif\;">Shops open late and many more fun and exciting things to do.</span></span><br />\n<strong><span style="color:black\;"><span style="font-family:helvetica\,sans-serif\;">Come join all the Christmas activities!!</span></span></strong>
LOCATION:Historic Downtown Attalla
UID:e.1432.385391
SEQUENCE:3
DTSTAMP:20260422T105757Z
URL:http://business.etowahchamber.org/events/details/city-of-attalla-christmas-tree-lighting-12-01-2014-385391
END:VEVENT

END:VCALENDAR
