BEGIN:VCALENDAR
VERSION:2.0
PRODID:-//ChamberMaster//Event Calendar 2.0//EN
METHOD:PUBLISH
X-PUBLISHED-TTL:P3D
REFRESH-INTERVAL:P3D
CALSCALE:GREGORIAN
BEGIN:VEVENT
DTSTART:20200924T170000Z
DTEND:20200924T230000Z
X-MICROSOFT-CDO-ALLDAYEVENT:FALSE
SUMMARY:City of Attalla Farmers Market
DESCRIPTION:Attalla's Farmer's Market featuring fruits\, vegetables\, and jellies! They are located at the intersection of Hwy 11 and Hwy 431 3rd Street NW\, next to the underpass.\n\n\n\nOpen every Thursday from 12-6 P.M. May thru October.
X-ALT-DESC;FMTTYPE=text/html:<span style="font-size:16px\;"><span style="font-family:arial\;">Attalla&#39\;s Farmer&#39\;s Market featuring fruits\, vegetables\, and jellies! They are located at the intersection of Hwy 11 and Hwy 431 3rd Street NW\, next to the underpass.<br />\n<br />\nOpen every Thursday from 12-6 P.M. May thru October.</span></span>
LOCATION:Intersection of Hwy 11 & Hwy 431 3rd Street NW in Attalla(next to Jack's)
UID:e.1432.403182
SEQUENCE:3
DTSTAMP:20260419T155019Z
URL:http://business.etowahchamber.org/events/details/city-of-attalla-farmers-market-09-24-2020-403182
END:VEVENT

END:VCALENDAR
