BEGIN:VCALENDAR
VERSION:2.0
PRODID:-//ChamberMaster//Event Calendar 2.0//EN
METHOD:PUBLISH
X-PUBLISHED-TTL:P3D
REFRESH-INTERVAL:P3D
CALSCALE:GREGORIAN
BEGIN:VEVENT
DTSTART:20200901T120000Z
DTEND:20200901T170000Z
X-MICROSOFT-CDO-ALLDAYEVENT:FALSE
SUMMARY:City of Glencoe Farmers Market
DESCRIPTION:The Glencoe Farmers Market is held every Tuesday from June thru September.
X-ALT-DESC;FMTTYPE=text/html:<span style="font-size:16px\;"><span style="font-family:arial\;">The Glencoe Farmers Market is held every Tuesday from June thru September.</span></span>
LOCATION:Glencoe Police Department
UID:e.1432.403195
SEQUENCE:3
DTSTAMP:20260419T155604Z
URL:http://business.etowahchamber.org/events/details/city-of-glencoe-farmers-market-09-01-2020-403195
END:VEVENT

END:VCALENDAR
