BEGIN:VCALENDAR
VERSION:2.0
PRODID:-//ChamberMaster//Event Calendar 2.0//EN
METHOD:PUBLISH
X-PUBLISHED-TTL:P3D
REFRESH-INTERVAL:P3D
CALSCALE:GREGORIAN
BEGIN:VEVENT
DTSTART:20200907T120000Z
DTEND:20200907T160000Z
X-MICROSOFT-CDO-ALLDAYEVENT:FALSE
SUMMARY:City of Hokes Bluff Farmers Market
DESCRIPTION:Hokes Bluff Farmers Market for local growers will kick off in the morning at 7 A.M.  The location will be behind the Hokes Bluff Public Library\, next to the walking track in the rear of the property.\n\n\n\nSigns will be out at Alfords Bend Road to direct visitors to the location.  The farmers will wrap it up around 11 A.M..
X-ALT-DESC;FMTTYPE=text/html:<span style="font-size:16px\;"><span style="font-family:arial\;">Hokes Bluff Farmers Market for local growers will kick off in the morning at 7 A.M.&nbsp\; The location will be behind the Hokes Bluff Public Library\, next to the walking track in the rear of the property.<br />\n<br />\nSigns will be out at Alfords Bend Road to direct visitors to the location.&nbsp\; The farmers will wrap it up around 11 A.M..</span></span>
LOCATION:Hokes Bluff City Park
UID:e.1432.403209
SEQUENCE:3
DTSTAMP:20260419T154408Z
URL:http://business.etowahchamber.org/events/details/city-of-hokes-bluff-farmers-market-09-07-2020-403209
END:VEVENT

END:VCALENDAR
