BEGIN:VCALENDAR
VERSION:2.0
PRODID:-//ChamberMaster//Event Calendar 2.0//EN
METHOD:PUBLISH
X-PUBLISHED-TTL:P3D
REFRESH-INTERVAL:P3D
CALSCALE:GREGORIAN
BEGIN:VEVENT
DTSTART;VALUE=DATE:20121005
DTEND;VALUE=DATE:20121006
TRANSP:TRANSPARENT
X-MICROSOFT-CDO-ALLDAYEVENT:TRUE
SUMMARY:Clark Trunk Show at Hicks Family Shoes
DESCRIPTION:Hicks Family Shoes is having a Clark Truck Show on Friday\, October 5th!  Register for a drawing for FREE CLARKS!  Also\, receive a free gift with purchase!
X-ALT-DESC;FMTTYPE=text/html:Hicks Family Shoes is having a Clark Truck Show on Friday\, October 5th! &nbsp\;Register for a drawing for FREE CLARKS! &nbsp\;Also\, receive a free gift with purchase! &nbsp\;
LOCATION:Hicks Family Shoes - Downtown Gadsden 430 Broad Street\, Gadsden 256-546-0522
UID:e.1432.382787
SEQUENCE:3
DTSTAMP:20260423T004141Z
URL:http://business.etowahchamber.org/events/details/clark-trunk-show-at-hicks-family-shoes-10-05-2012-382787
END:VEVENT

END:VCALENDAR
