BEGIN:VCALENDAR
VERSION:2.0
PRODID:-//ChamberMaster//Event Calendar 2.0//EN
METHOD:PUBLISH
X-PUBLISHED-TTL:P3D
REFRESH-INTERVAL:P3D
CALSCALE:GREGORIAN
BEGIN:VEVENT
DTSTART:20141002T230000Z
DTEND:20141003T010000Z
X-MICROSOFT-CDO-ALLDAYEVENT:FALSE
SUMMARY:"Coattails\, Cocktails\, & Conductors"
DESCRIPTION:Save the Date!\n\n\n\nThursday\, October 2nd\n\nDoors Open at 6 P.M.\n\nThe Center For Cultural Arts\n\n\n\nYour Gadsden Symphony Orchestra Will Host the "2nd Annual" "Coattails\, Cocktails\, & Conductors"\, A Silent/Live Auction.\n\nBlack Tie Optional\, Watch for more details\, but don't miss this event!
X-ALT-DESC;FMTTYPE=text/html:<strong>Save the Date!</strong><br />\n<br />\n<strong>Thursday\, October 2nd<br />\nDoors Open at 6 P.M.<br />\nThe Center For Cultural Arts</strong><br />\n<br />\nYour Gadsden Symphony Orchestra Will Host the &quot\;2nd Annual&quot\; &quot\;<strong>Coattails\, Cocktails\, &amp\; Conductors&quot\;\,&nbsp\;</strong>A Silent/Live Auction.<br />\nBlack Tie Optional\, Watch for more details\, but don&#39\;t miss this event!
LOCATION:Mary G. Hardin Center for Cultural Arts
UID:e.1432.384923
SEQUENCE:3
DTSTAMP:20260422T132923Z
URL:http://business.etowahchamber.org/events/details/coattails-cocktails-conductors-10-02-2014-384923
END:VEVENT

END:VCALENDAR
