BEGIN:VCALENDAR
VERSION:2.0
PRODID:-//ChamberMaster//Event Calendar 2.0//EN
METHOD:PUBLISH
X-PUBLISHED-TTL:P3D
REFRESH-INTERVAL:P3D
CALSCALE:GREGORIAN
BEGIN:VEVENT
DTSTART:20120824T223000Z
DTEND:20120825T020000Z
X-MICROSOFT-CDO-ALLDAYEVENT:FALSE
SUMMARY:Cobbler & Cocktails
DESCRIPTION:Cobbler & Cocktails\n\nDinner\, silent and live auction\n\n\n\n\n\nThis is the "Social Event" of The Cobbler Festival. Held inside Convention Hall\, this segment of our event is when the live & silent auctions will take place. Cocktails and hors d'oeuvres will be served starting at 5:30. The Silent auction also opens at this time. Dinner will be served and the live auction will begin around 7pm. The ticket price of $40 includes not only entry to the festivities\, but registration for the auctions and a full service dinner as well.\n\n\n	Lots of great items\, including many INCREDIBLE TRIPS!\n\n	\n\n	Silent and Live Auction by C King Benefits Auctions\n\n	\n\n	Proceeds to benefit the Wounded Warrior Project\n\n	Hosted by the Knights of Columbus
X-ALT-DESC;FMTTYPE=text/html:<span style="color: #006400"><span style="font-size: 18px"><strong>Cobbler &amp\; Cocktails</strong></span></span><br />\nDinner\, silent and live auction<br />\n<br />\n<br />\n<span style="font-size: 16px"><span style="font-family: arial"><span style="color: #72060c"><i><font style="font-size: 20px"><font style="font-size: 20px">This is the &quot\;Social Event&quot\; of The Cobbler&nbsp\;Festival. Held inside Convention Hall\, this segment of our event is when the live &amp\; silent auctions will take place. Cocktails and hors d&#39\;oeuvres will be served starting at 5:30. The Silent auction also opens at this time. Dinner will be served and the live auction will begin around 7pm. The ticket price of $40 includes not only entry to the festivities\, but registration for the auctions and a full service dinner as well.</font></font></i></span></span></span><br />\n<ol>\n	Lots of great items\, including many INCREDIBLE TRIPS!<br />\n	<br />\n	Silent and Live Auction by C King Benefits Auctions<br />\n	<br />\n	Proceeds to benefit the Wounded Warrior Project<br />\n	Hosted by the Knights of Columbus\n</ol>\n
LOCATION:Convention Hall Gadsden
UID:e.1432.381902
SEQUENCE:3
DTSTAMP:20260422T214939Z
URL:http://business.etowahchamber.org/events/details/cobbler-cocktails-08-24-2012-381902
END:VEVENT

END:VCALENDAR
