BEGIN:VCALENDAR
VERSION:2.0
PRODID:-//ChamberMaster//Event Calendar 2.0//EN
METHOD:PUBLISH
X-PUBLISHED-TTL:P3D
REFRESH-INTERVAL:P3D
CALSCALE:GREGORIAN
BEGIN:VEVENT
DTSTART:20120825T150000Z
DTEND:20120826T030000Z
X-MICROSOFT-CDO-ALLDAYEVENT:FALSE
SUMMARY:Cobbler Festival
DESCRIPTION:Cobbler Festival\n\n		\n\n		The Gadsden Etowah Cobbler Festival is an annual event that offers something for everyone in a family oriented atmosphere. Our NEW LOCATION is\n\n		Gadsden's Convention Hall! \n		\n			This is an indoor/outdoor festival which makes it a rain or shine event!\n		\n			Activities include a cobbler bake off\, (of course)\, local vendor booths\, both live and silent auctions\, live music\, carnival rides and attractions and plenty of food. We are raffling off A NEW CAR!\n\n			\n\n			Proceeds from the event will help support WOUNDED WARRIOR PROJECT as well as local charities and programs that make our community a better place to live. So please\, browse the site to learn more\, feel free to contact any of our team members and most of all\, plan to come see us at the festival!\n\n			\n\n			\n\n			About Us\n\n			The Festival is hosted by The Gadsden Council of The Knights of Columbus. The Knights are a charitable organization that supports LOCAL CHARITIES in the Gadsden/Etowah County Area. \n		\n			As a result\, ALL FUNDS RAISED by the festival will be spread throughout the community to the local chapters of organizations such as\; Wounded Warrior Project\, The American Red Cross\, The Boys & Girls Club Of America & Big Brothers & Sisters\, just to name a few.\n\n			\n\n			If you would like more information about The Knights or the charities we support\, feel free to use our "Contact Us" page to do just that. We encourage you to come out to the festival & enjoy yourselves. Whether its the Friday night auctions\, (both live & silent)\, the vendors & carnival\, or the live entertainment\, we are sure that there will be plenty to do & see. You can be sure that our community will be better for it!\n		\n\n		\n\n		Friday August 24th\n\n		\n\n		11:00 am..........Vendor Registration is Open\n\n		 4:00 pm..........The festival is officially underway! Vendors are open for\n\n		                        business. Silent auction items are available for bidding.\n\n		  6:00 pm..........See the Cobbler & Cocktails Page for details on the Silent & Live Auctions! Outside\, the festival continues & live\n\n		                        entertainment begins.\n\n		 9:00 pm..........Live auction ends.\n\n		10:00 pm.........The festival offically closes for the day.\n\n		\n\n		Saturday August 25th\n\n		\n\n		10:00 am..........The festival reopens!\n\n		11:00 am..........Live entertainment begins.\n		\n			12 Noon............Deadline for Cobbler Bake-off entries.\n		\n			1:00 pm...........Cobbler Bake-off winners announced & Prize\n\n			                         Presentations.\n		\n			 8:00 pm..........Car raffle winner is announced!\n\n			10:00 pm.........The festival offically closes.
X-ALT-DESC;FMTTYPE=text/html:<div style="display: block">\n	<div style="display: block">\n		<em><font style="font-size: 18px"><strong><font style="font-size: 32px"><font color="#72060c">Cobbler Festival<br />\n		<br />\n		<strong><em><font color="#72060c" size="4">The Gadsden Etowah Cobbler Festival&nbsp\;is an annual event that offers something for everyone in a family oriented atmosphere. Our NEW LOCATION is<br />\n		Gadsden&#39\;s Convention Hall!</font></em></strong> </font></font></strong></font></em>\n		<p style="text-align: center">\n			<em><font style="font-size: 18px"><strong><font style="font-size: 32px"><font color="#72060c"><font style="font-size: 18px"><strong><em><font color="#72060c"><font face="Times New Roman\, Times\, serif" style="font-size: 18px"><font style="font-size: 18px">This is an indoor/outdoor festival which makes it a&nbsp\;</font></font><span style="font-family: 'times new roman'\, times\, serif\; font-size: 22px"><font style="font-size: 18px">rain or shine event!</font></span></font></em></strong></font></font></font></strong></font></em></p>\n		<p>\n			<em><font style="font-size: 18px"><strong><font style="font-size: 32px"><font color="#72060c"><strong><font color="#72060c" face="Times New Roman\, Times\, serif" style="font-size: 18px"><em>Activities include a cobbler bake off\, (of course)\, local vendor booths\, both live and silent auctions\, live music\, carnival rides and attractions and plenty of food. We are raffling off A NEW CAR!<br />\n			<br />\n			Proceeds from the event will help support WOUNDED WARRIOR PROJECT as well as local charities and programs that make our community a better place to live. So please\, browse the site to learn more\, feel free to contact any of our team members and most of all\, plan to come see us at the festival!</em></font></strong><br />\n			<br />\n			<br />\n			<i><font color="#72060c"><font face="Times New Roman\, Times\, serif" style="font-size: 18px"><strong><font style="font-size: 22px">About Us</font><br />\n			The Festival is hosted by The Gadsden Council of The Knights of Columbus. The Knights are a charitable organization that supports LOCAL CHARITIES in the Gadsden/Etowah County Area.&nbsp\;</strong></font></font></i></font></font></strong></font></em></p>\n		<p>\n			<em><font style="font-size: 18px"><strong><font style="font-size: 32px"><font color="#72060c"><i><font color="#72060c"><font style="font-size: 20px"><font face="Times New Roman\, Times\, serif" style="font-size: 18px"><strong>As a result\, ALL FUNDS RAISED by the festival will be spread throughout the community to the local chapters of organizations such as\; </strong></font><a href="http://wounderwarriorproject.com/" target="_blank"><font face="Times New Roman\, Times\, serif" style="font-size: 18px"><strong>Wounded Warrior Project</strong></font></a><font face="Times New Roman\, Times\, serif" style="font-size: 18px"><strong>\, The American Red Cross\,&nbsp\;The Boys &amp\; Girls Club Of America &amp\; Big Brothers &amp\; Sisters\, just to name a few.<br />\n			<br />\n			<font style="font-size: 18px"><em><font color="#72060c" style="font-size: 18px"><font style="font-size: 18px">If you would like more information about The Knights or the charities we support\, feel free to use our &quot\;Contact Us&quot\; page to do just that. </font><font style="font-size: 18px"><font style="font-size: 18px">We encourage you to come out to the festival &amp\; enjoy yourselves. Whether its the Friday night auctions\, (both live &amp\; silent)\, the vendors &amp\; carnival\, or the live entertainment\, we are sure that there will be plenty to do &amp\; see. You can be sure that our community will be better for it!</font></font></font></em></font></strong></font></font></font></i></font></font></strong></font></em></p>\n		<br />\n		<br />\n		<em><font style="font-size: 18px"><strong><font style="font-size: 32px"><font color="#72060c">Friday August 24th</font></font><br />\n		<br />\n		<font color="#72060c"><font style="font-size: 20px">11:00 am..........Vendor Registration is Open<br />\n		&nbsp\;4:00 pm..........The festival is officially underway! Vendors are open for<br />\n		&nbsp\;&nbsp\;&nbsp\;&nbsp\;&nbsp\;&nbsp\;&nbsp\;&nbsp\;&nbsp\;&nbsp\;&nbsp\;&nbsp\;&nbsp\;&nbsp\;&nbsp\;&nbsp\;&nbsp\;&nbsp\;&nbsp\;&nbsp\;&nbsp\;&nbsp\;&nbsp\;&nbsp\;business. Silent auction items are available for bidding.<br />\n		&nbsp\;&nbsp\;6:00 pm..........See the Cobbler &amp\; Cocktails Page for details on the Silent &amp\; Live Auctions!&nbsp\;Outside\, the festival continues &amp\; live<br />\n		&nbsp\;&nbsp\;&nbsp\;&nbsp\;&nbsp\;&nbsp\;&nbsp\;&nbsp\;&nbsp\;&nbsp\;&nbsp\;&nbsp\;&nbsp\;&nbsp\;&nbsp\;&nbsp\;&nbsp\;&nbsp\;&nbsp\;&nbsp\;&nbsp\;&nbsp\;&nbsp\;&nbsp\;entertainment begins.<br />\n		&nbsp\;9:00 pm..........Live auction ends.<br />\n		10:00 pm.........The festival offically closes for the day.</font></font></strong></font></em><br />\n		<br />\n		<em><font color="#bf3c3c" style="font-size: 18px"><strong><font style="font-size: 32px"><font color="#72060c">Saturday&nbsp\;August 25th</font></font><br />\n		<br />\n		<font color="#72060c"><font style="font-size: 14px"><font style="font-size: 16px"><font style="font-size: 20px"><font style="font-size: 22px"><font style="font-size: 20px"><font style="font-size: 20px">10:00 am..........The festival reopens!<br />\n		11:00 am..........Live entertainment begins.</font></font></font></font></font></font></font></strong></font></em>\n		<div>\n			<em><font color="#bf3c3c" style="font-size: 18px"><strong><font color="#72060c"><font style="font-size: 14px"><font style="font-size: 20px"><font style="font-size: 22px"><font style="font-size: 20px">12 Noon............</font></font></font></font><font style="font-size: 14px"><font style="font-size: 20px"><font style="font-size: 22px"><font style="font-size: 20px">Deadline for Cobbler&nbsp\;Bake-off entries.</font></font></font></font></font></strong></font></em></div>\n		<div>\n			<em><font color="#bf3c3c" style="font-size: 18px"><strong><font color="#72060c"><span style="font-style: normal\; color: #aa934e\; font-size: 11px\; font-weight: normal"><em><font color="#bf3c3c" style="font-size: 18px"><strong><font color="#72060c"><font style="font-size: 14px"><font style="font-size: 20px"><font style="font-size: 22px"><font style="font-size: 20px">1:00 pm...........</font></font></font></font><font style="font-size: 14px"><font style="font-size: 20px"><font style="font-size: 22px"><font style="font-size: 20px">Cobbler Bake-off winners announced &amp\; Prize<br />\n			&nbsp\;&nbsp\;&nbsp\;&nbsp\;&nbsp\;&nbsp\;&nbsp\;&nbsp\;&nbsp\;&nbsp\;&nbsp\;&nbsp\;&nbsp\;&nbsp\;&nbsp\;&nbsp\;&nbsp\;&nbsp\;&nbsp\;&nbsp\;&nbsp\;&nbsp\;&nbsp\;&nbsp\;&nbsp\;Presentations.</font></font></font></font></font></strong></font></em></span></font></strong></font></em></div>\n		<div>\n			<em><font color="#bf3c3c" style="font-size: 18px"><strong><font color="#72060c"><span style="font-style: normal\; color: #aa934e\; font-size: 11px\; font-weight: normal"><em><font color="#bf3c3c" style="font-size: 18px"><strong><font color="#72060c"><font style="font-size: 14px"><font style="font-size: 20px"><font style="font-size: 22px"><font style="font-size: 20px">&nbsp\;8:00 pm..........</font></font></font></font><font style="font-size: 14px"><font style="font-size: 20px"><font style="font-size: 22px"><font style="font-size: 20px">Car raffle winner is announced!</font></font></font></font></font></strong></font></em></span><br />\n			<font style="font-size: 14px"><font style="font-size: 20px"><font style="font-size: 22px"><font style="font-size: 20px">10:00 pm.........The festival offically closes. </font></font></font></font></font></strong></font></em></div>\n	</div>\n</div>\n
LOCATION:Gadsden Convention Hall
UID:e.1432.381903
SEQUENCE:3
DTSTAMP:20260422T215935Z
URL:http://business.etowahchamber.org/events/details/cobbler-festival-08-25-2012-381903
END:VEVENT

END:VCALENDAR
