BEGIN:VCALENDAR
VERSION:2.0
PRODID:-//ChamberMaster//Event Calendar 2.0//EN
METHOD:PUBLISH
X-PUBLISHED-TTL:P3D
REFRESH-INTERVAL:P3D
CALSCALE:GREGORIAN
BEGIN:VEVENT
DTSTART:20141025T150000Z
DTEND:20141025T190000Z
X-MICROSOFT-CDO-ALLDAYEVENT:FALSE
SUMMARY:Community Shred & Drug Round Up
DESCRIPTION:RSVP is sponsoring their annual Community Shred & Drug Round Up Event for Make a Difference Day.  This year\, a Cintas shredding truck & Drug Enforcement Unit (DEU) agents will be in the parking lot of the Etowah County Courthouse to shred material & to collect your old or unused medicines.  \n\n \n\nSupported by the Etowah County Commission\, Family Savings Federal Credit Union\, Etowah County      Sheriff's Dept.. & Drug Enforcement Unit\,  Sutton Bridge Exxon and the RSVP Advisory Council.
X-ALT-DESC;FMTTYPE=text/html:<span style="language:en-US\;"><span style="font-family:georgia\;"><span style="font-size:18.0pt\;">RSVP is sponsoring their annual Community Shred &amp\; Drug Round Up Event for Make a Difference Day.&nbsp\; This year\, a Cintas shredding truck &amp\; Drug Enforcement Unit (DEU) agents will be in the parking lot of the Etowah County Courthouse to shred material &amp\; to collect your old or unused medicines</span></span></span><span style="language:en-US\;"><span style="font-family:georgia\;"><span style="font-size:16.0pt\;">.&nbsp\; </span></span></span><br />\n&nbsp\;<br />\n<span style="language:en-US\;"><span style="font-family:georgia\;"><span style="font-size:12.0pt\;">Supported by the Etowah County Commission\, Family Savings Federal Credit Union\, Etowah County&nbsp\;&nbsp\;&nbsp\;&nbsp\;&nbsp\; Sheriff&rsquo\;s Dept.. &amp\; Drug Enforcement Unit\,&nbsp\; Sutton Bridge Exxon and the RSVP Advisory Council.</span></span></span>
LOCATION:Side Parking lot of the Etowah County Courthouse 800 Forrest Ave\, Gadsden\, AL
UID:e.1432.385028
SEQUENCE:3
DTSTAMP:20260422T132324Z
URL:http://business.etowahchamber.org/events/details/community-shred-drug-round-up-10-25-2014-385028
END:VEVENT

END:VCALENDAR
